BEGIN:VCALENDAR
VERSION:2.0
PRODID:-//Holy Cross - ECPv6.15.20//NONSGML v1.0//EN
CALSCALE:GREGORIAN
METHOD:PUBLISH
X-ORIGINAL-URL:https://holycrossbcs.org
X-WR-CALDESC:Events for Holy Cross
REFRESH-INTERVAL;VALUE=DURATION:PT1H
X-Robots-Tag:noindex
X-PUBLISHED-TTL:PT1H
BEGIN:VTIMEZONE
TZID:America/Chicago
BEGIN:DAYLIGHT
TZOFFSETFROM:-0600
TZOFFSETTO:-0500
TZNAME:CDT
DTSTART:20240310T080000
END:DAYLIGHT
BEGIN:STANDARD
TZOFFSETFROM:-0500
TZOFFSETTO:-0600
TZNAME:CST
DTSTART:20241103T070000
END:STANDARD
BEGIN:DAYLIGHT
TZOFFSETFROM:-0600
TZOFFSETTO:-0500
TZNAME:CDT
DTSTART:20250309T080000
END:DAYLIGHT
BEGIN:STANDARD
TZOFFSETFROM:-0500
TZOFFSETTO:-0600
TZNAME:CST
DTSTART:20251102T070000
END:STANDARD
BEGIN:DAYLIGHT
TZOFFSETFROM:-0600
TZOFFSETTO:-0500
TZNAME:CDT
DTSTART:20260308T080000
END:DAYLIGHT
BEGIN:STANDARD
TZOFFSETFROM:-0500
TZOFFSETTO:-0600
TZNAME:CST
DTSTART:20261101T070000
END:STANDARD
END:VTIMEZONE
BEGIN:VEVENT
DTSTART;TZID=America/Chicago:20250727T190000
DTEND;TZID=America/Chicago:20250727T220000
DTSTAMP:20260419T142310
CREATED:20250709T222642Z
LAST-MODIFIED:20250710T152842Z
UID:10002928-1753642800-1753653600@holycrossbcs.org
SUMMARY:HC Hits a Home Run
DESCRIPTION:Take me out to the ball game! Join Holy Cross for a fun evening of baseball and a special recognition of Holy Cross in between innings to share how we are connecting our community with Jesus for salvation\, strength and service.  The Brazos Valley Bombers face the Lake Charles Gumbeaux Gators at home on Sunday\, July 27 at 7:00pm. Arrive at 6:15 to pickup your ticket(s) at the ticket office. Admission is free. Reserve your tickets by Thursday\, July 24 by submitting the form at this link.
URL:https://holycrossbcs.org/event/hc-hits-a-home-run/
LOCATION:Travis Field\, 2200 Bomber Dr\, Bryan\, TX\, 77801\, United States
CATEGORIES:Community
ATTACH;FMTTYPE=image/webp:https://holycrossbcs.org/wp-content/uploads/2025/07/Bombers-Game-1.webp
END:VEVENT
END:VCALENDAR