BEGIN:VCALENDAR
VERSION:2.0
PRODID:-//Holy Cross - ECPv6.15.20//NONSGML v1.0//EN
CALSCALE:GREGORIAN
METHOD:PUBLISH
X-ORIGINAL-URL:https://holycrossbcs.org
X-WR-CALDESC:Events for Holy Cross
REFRESH-INTERVAL;VALUE=DURATION:PT1H
X-Robots-Tag:noindex
X-PUBLISHED-TTL:PT1H
BEGIN:VTIMEZONE
TZID:America/Chicago
BEGIN:DAYLIGHT
TZOFFSETFROM:-0600
TZOFFSETTO:-0500
TZNAME:CDT
DTSTART:20250309T080000
END:DAYLIGHT
BEGIN:STANDARD
TZOFFSETFROM:-0500
TZOFFSETTO:-0600
TZNAME:CST
DTSTART:20251102T070000
END:STANDARD
BEGIN:DAYLIGHT
TZOFFSETFROM:-0600
TZOFFSETTO:-0500
TZNAME:CDT
DTSTART:20260308T080000
END:DAYLIGHT
BEGIN:STANDARD
TZOFFSETFROM:-0500
TZOFFSETTO:-0600
TZNAME:CST
DTSTART:20261101T070000
END:STANDARD
BEGIN:DAYLIGHT
TZOFFSETFROM:-0600
TZOFFSETTO:-0500
TZNAME:CDT
DTSTART:20270314T080000
END:DAYLIGHT
BEGIN:STANDARD
TZOFFSETFROM:-0500
TZOFFSETTO:-0600
TZNAME:CST
DTSTART:20271107T070000
END:STANDARD
END:VTIMEZONE
BEGIN:VEVENT
DTSTART;TZID=America/Chicago:20260303T183000
DTEND;TZID=America/Chicago:20260303T200000
DTSTAMP:20260419T185127
CREATED:20260204T183201Z
LAST-MODIFIED:20260225T163510Z
UID:10004091-1772562600-1772568000@holycrossbcs.org
SUMMARY:Taco Night with Launch
DESCRIPTION:Nothing better than tacos on a Tuesday with your friends! Join Launch for koinonia and tacos at the home of Mallari and Schaeffer Folsom. Contact the Church Office for directions and questions. 
URL:https://holycrossbcs.org/event/taco-night-with-launch/
LOCATION:TX
CATEGORIES:HC Adults,Launch
ATTACH;FMTTYPE=image/webp:https://holycrossbcs.org/wp-content/uploads/2026/02/Taco-Night-with-Launch.webp
END:VEVENT
BEGIN:VEVENT
DTSTART;VALUE=DATE:20260307
DTEND;VALUE=DATE:20260315
DTSTAMP:20260419T185127
CREATED:20251023T132200Z
LAST-MODIFIED:20260122T165446Z
UID:10003182-1772841600-1773532799@holycrossbcs.org
SUMMARY:HC Camping: Bismarck\, AR
DESCRIPTION:Are you ready to wander? Get involved with HC Camping Ministry! You are invited to join us for this upcoming camping trip: \n\nDates: March 7-14\, 2026\nLocation: DeGray Lake Resort State Park (Bismarck\, AR)\nDetails: RV and Tent Sites as well as Yurts and a lodge. Book around site 78\nReservations: DeGray Lake Resort State Park Website\nWorship will take place on Monday\, March 9 so those joining later can attend church on Sunday.\n\nContact Josh Muller at deere_bulldogs@yahoo.com to learn more.
URL:https://holycrossbcs.org/event/hc-camping-bismarck-ar/
LOCATION:TX
CATEGORIES:Community,HC Adults,HC Camping Ministry
ATTACH;FMTTYPE=image/webp:https://holycrossbcs.org/wp-content/uploads/2025/10/Mar26-HC-Camping-Trip.webp
END:VEVENT
BEGIN:VEVENT
DTSTART;TZID=America/Chicago:20260308T093000
DTEND;TZID=America/Chicago:20260308T103000
DTSTAMP:20260419T185127
CREATED:20251229T193431Z
LAST-MODIFIED:20260313T122518Z
UID:10003675-1772962200-1772965800@holycrossbcs.org
SUMMARY:Praying Parents
DESCRIPTION:Being a parent can be messy and challenging\, but you’re not alone. Join Praying Parents every Sunday at 9:30am for discussion of real-life parenting topics with a Biblical foundation and time in prayer for our children and families. This class is a great space to connect with other parents (at all stages of parenthood)\, be encouraged\, and keep Christ at the center of your parenting. \nPraying Parents is located in Worship Building Classroom 202.
URL:https://holycrossbcs.org/event/praying-parents/2026-03-08/
LOCATION:Holy Cross Lutheran Church (Worship Building)\, 1590 Sebesta Road\, College Station\, TX\, 77845\, United States
CATEGORIES:Bible Studies,HC Adults,Sunday School
ATTACH;FMTTYPE=image/webp:https://holycrossbcs.org/wp-content/uploads/2025/04/Praying-Parents.webp
END:VEVENT
BEGIN:VEVENT
DTSTART;TZID=America/Chicago:20260308T093000
DTEND;TZID=America/Chicago:20260308T103000
DTSTAMP:20260419T185127
CREATED:20260130T130112Z
LAST-MODIFIED:20260130T130354Z
UID:10004083-1772962200-1772965800@holycrossbcs.org
SUMMARY:How the Light Shines Through
DESCRIPTION:In a society that is fractured and divided\, the Church needs an outreach perspective focused on the healing that Christ brings to the darkness of this world. Join Trey Steinmann for a new adult Sunday school class based study on the book\, How the Light Shines Through: Resilient Witness in Dark Times by Chad Lakies. Contact the Church Office to order your book so you can be prepared for the first class. \nThis will be a 10-week\, discussion-based class that covers one chapter per week. Located in the Lighthouse. Questions? Contact the Church Office at (979) 764-3992 or office@holycrossbcs.org.
URL:https://holycrossbcs.org/event/how-the-light-shines-through/2026-03-08/
LOCATION:TX
CATEGORIES:Bible Studies,HC Adults,Sunday School
ATTACH;FMTTYPE=image/webp:https://holycrossbcs.org/wp-content/uploads/2026/01/Outreach-Sunday-School.webp
END:VEVENT
BEGIN:VEVENT
DTSTART;TZID=America/Chicago:20260308T093000
DTEND;TZID=America/Chicago:20260308T103000
DTSTAMP:20260419T185127
CREATED:20260204T180641Z
LAST-MODIFIED:20260313T122438Z
UID:10003581-1772962200-1772965800@holycrossbcs.org
SUMMARY:Adult Bible Class
DESCRIPTION:Join us Sunday mornings at 9:30 AM for our Adult Bible Class (ABC)—a welcoming space for learning and reflection in your faith journey led by Rev. Dennis Bragdon. During Lent\, Adult Bible Class will watch “The Passion of the Christ” (2004)\, one scene at a time\, and then compare it to what the Scriptures have to say about these events. May God bless our meditation on all that our Savior experienced for us in His suffering\, death\, and resurrection.  \nThis is discussion-based instruction\, so come ready to engage in conversation. Grab a cup of coffee\, bring your Bible and dive into the Scripture with us! \nABC is located in Education Building Rooms 105-107.
URL:https://holycrossbcs.org/event/adult-bible-class/2026-03-08/
LOCATION:Holy Cross Lutheran Church (Education Building)\, 1200 Foxfire Dr.\, College Station\, TX\, 77845\, United States
CATEGORIES:Bible Studies,HC Adults,Sunday School
ATTACH;FMTTYPE=image/webp:https://holycrossbcs.org/wp-content/uploads/2025/04/ABC.webp
END:VEVENT
BEGIN:VEVENT
DTSTART;TZID=America/Chicago:20260314T100000
DTEND;TZID=America/Chicago:20260314T160000
DTSTAMP:20260419T185127
CREATED:20251229T202012Z
LAST-MODIFIED:20260409T201801Z
UID:10003920-1773482400-1773504000@holycrossbcs.org
SUMMARY:Creative Crafters
DESCRIPTION:Calling all crafters! Join Creative Crafters for a great time of fellowship and crafting. Bring your portable crafts (e.g.\, crochet\, scrapbooking\, sewing\, needlepoint) and get some work done away from the distractions of home. Creative Crafters meets in the Youth Room from 10:00am-4:00pm on the second Saturday of each month. \n\nFor questions\, please contact the Church Office at 979-764-3992 or office@holycrossbcs.org.
URL:https://holycrossbcs.org/event/creative-crafters/2026-03-14/
LOCATION:Holy Cross Lutheran Church (Education Building)\, 1200 Foxfire Dr.\, College Station\, TX\, 77845\, United States
CATEGORIES:Community,HC Adults
ATTACH;FMTTYPE=image/webp:https://holycrossbcs.org/wp-content/uploads/2025/11/Creative-Crafters.webp
END:VEVENT
BEGIN:VEVENT
DTSTART;TZID=America/Chicago:20260319T183000
DTEND;TZID=America/Chicago:20260319T203000
DTSTAMP:20260419T185127
CREATED:20260306T043530Z
LAST-MODIFIED:20260306T043703Z
UID:10004112-1773945000-1773952200@holycrossbcs.org
SUMMARY:Theological Pub
DESCRIPTION:**March Theological Pub Rescheduled for Spring Break** \nJoin us for our monthly gathering of “Theological Pub”. This is an excellent opportunity for the men of our church and community (21+) to engage in meaningful biblical conversations while enjoying a little beer. This men’s small group meets every second Thursday of the month\, providing a relaxed atmosphere for Biblical discussions and fellowship. Mark your calendars! \nFor questions\, please contact the Church Office at 979-764-3992 or office@holycrossbcs.org.
URL:https://holycrossbcs.org/event/theological-pub-march/
LOCATION:Holy Cross Lutheran Church (Education Building)\, 1200 Foxfire Dr.\, College Station\, TX\, 77845\, United States
CATEGORIES:Bible Studies,HC Adults
ATTACH;FMTTYPE=image/webp:https://holycrossbcs.org/wp-content/uploads/2025/06/Theological-Pub-1.webp
END:VEVENT
BEGIN:VEVENT
DTSTART;TZID=America/Chicago:20260319T190000
DTEND;TZID=America/Chicago:20260319T210000
DTSTAMP:20260419T185127
CREATED:20251223T165148Z
LAST-MODIFIED:20251229T204744Z
UID:10003260-1773946800-1773954000@holycrossbcs.org
SUMMARY:Wine and the Word
DESCRIPTION:Join us for our monthly gathering of “Wine and the Word.” This is a wonderful opportunity for the women of our church and community (21+) to engage in meaningful biblical conversations while enjoying a little wine. This women’s small group meets every third Thursday of the month\, providing a relaxed atmosphere for biblical discussions and fellowship. Mark your calendars! \nFor questions\, please contact the Church Office at 979-764-3992 or office@holycrossbcs.org.
URL:https://holycrossbcs.org/event/wine-and-the-word/2026-03-19/
LOCATION:TX
CATEGORIES:Bible Studies,HC Adults
ATTACH;FMTTYPE=image/webp:https://holycrossbcs.org/wp-content/uploads/2025/06/Wine-and-the-Word.webp
END:VEVENT
BEGIN:VEVENT
DTSTART;TZID=America/Chicago:20260320T180000
DTEND;TZID=America/Chicago:20260320T200000
DTSTAMP:20260419T185127
CREATED:20260219T191702Z
LAST-MODIFIED:20260306T044828Z
UID:10004096-1774029600-1774036800@holycrossbcs.org
SUMMARY:Dishing with the Elders
DESCRIPTION:Crawfish pie\, braised venison\, shrimp boil\, and more! Come hungry to Dishing with the Elders for food\, fellowship and fundraising. This is an opportunity to get to know your elder and church family while tasting a variety of homemade dishes compliments of the HC Elders and support the missions of Holy Cross by participating in a prize drawing. \nPrize drawing items include: \n\nDavid Yurman Diamond Starburst Pendant Necklace\nGolf for 4 including carts at Pebble Creek Country Club\n“Family Night Out” – Hop doddy\, Star Cinema\, Lick Honest Ice Creams\nJon Hart Daytripper Tote\nAnd more!\n\nGrab your tickets on Sunday\, March 8\, Sunday\, March 15 or at the event! Tickets are $2 each or $20/sheet (10 tickets). All proceeds support the missions of Holy Cross!
URL:https://holycrossbcs.org/event/dishing-with-the-elders/
LOCATION:Holy Cross Lutheran Church (Education Building)\, 1200 Foxfire Dr.\, College Station\, TX\, 77845\, United States
CATEGORIES:Community,HC Adults
ATTACH;FMTTYPE=image/webp:https://holycrossbcs.org/wp-content/uploads/2026/02/Dishing-with-the-Elders.webp
END:VEVENT
BEGIN:VEVENT
DTSTART;VALUE=DATE:20260321
DTEND;VALUE=DATE:20260322
DTSTAMP:20260419T185127
CREATED:20260226T185007Z
LAST-MODIFIED:20260226T185007Z
UID:10004103-1774051200-1774137599@holycrossbcs.org
SUMMARY:Big Event at Holy Cross
DESCRIPTION:It’s time for some spring cleaning and we need your help! From cleaning out closets to painting\, there’s a job for everyone. If you’d like to volunteer\, contact the Church Office at office@holycrossbcs.org.
URL:https://holycrossbcs.org/event/big-event-at-holy-cross/
LOCATION:TX
CATEGORIES:Community,HC Adults
ATTACH;FMTTYPE=image/webp:https://holycrossbcs.org/wp-content/uploads/2026/02/Big-Event.webp
END:VEVENT
BEGIN:VEVENT
DTSTART;TZID=America/Chicago:20260322T094500
DTEND;TZID=America/Chicago:20260322T103000
DTSTAMP:20260419T185127
CREATED:20251228T203538Z
LAST-MODIFIED:20260313T122535Z
UID:10003346-1774172700-1774175400@holycrossbcs.org
SUMMARY:College Bible Class
DESCRIPTION:College life comes with big questions\, new challenges\, and opportunities to grow in faith. During the spring semester\, join us on Sundays at 9:45 AM for a class for college students led by college students. We’ll dig into Scripture\, talk about real-life issues\, and encourage each other in our walk with Christ. \n\nCollege Bible Class is located in Worship Building Classroom 202. Questions? Contact the Church Office at 979-764-3992 or office@holycrossbcs.org.
URL:https://holycrossbcs.org/event/college-bible-class/2026-03-22/
LOCATION:Holy Cross Lutheran Church (Education Building)\, 1200 Foxfire Dr.\, College Station\, TX\, 77845\, United States
CATEGORIES:Bible Studies,HC Adults,Sunday School
ATTACH;FMTTYPE=image/webp:https://holycrossbcs.org/wp-content/uploads/2025/04/College-Bible-Class-1.webp
END:VEVENT
BEGIN:VEVENT
DTSTART;TZID=America/Chicago:20260417T180000
DTEND;TZID=America/Chicago:20260417T200000
DTSTAMP:20260419T185127
CREATED:20260127T180105Z
LAST-MODIFIED:20260409T181318Z
UID:10004080-1776448800-1776456000@holycrossbcs.org
SUMMARY:April Forge Gathering
DESCRIPTION:Forge (~30’s-40’s) gathers for fellowship\, fish fry\, and a celebration of April birthdays at the Lehmann Home (1404 Essex Green\, College Station)! BYOB and a side dish or appetizer to share. See you there!\n\n\n\n\n\n\n\n\n\nContact the Church Office for directions or questions at (979) 764-3992 or office@holycrossbcs.org.
URL:https://holycrossbcs.org/event/april-forge-gathering/
LOCATION:TX
CATEGORIES:Forge,HC Adults
ATTACH;FMTTYPE=image/webp:https://holycrossbcs.org/wp-content/uploads/2026/01/Forge-Apr26-1.webp
END:VEVENT
BEGIN:VEVENT
DTSTART;TZID=America/Chicago:20260426T120000
DTEND;TZID=America/Chicago:20260426T130000
DTSTAMP:20260419T185127
CREATED:20260403T150104Z
LAST-MODIFIED:20260403T150104Z
UID:10004131-1777204800-1777208400@holycrossbcs.org
SUMMARY:Impressions Team Appreciation Lunch
DESCRIPTION:We are so grateful for our Impressions Team volunteers! The team is invited to an appreciation lunch on Sunday\, April 26 in Education Building Rooms 105-107 immediately following the 10:45am service. Enjoy fellowship and lunch with other volunteers and share feedback based on your experience thus far. From door greeters to coffee makers\, this team strives to make a positive\, lasting impression for visitors at Holy Cross. Contact the Church Office if you’d like to get involved or you signed up to serve and have not received the schedule or instructions. \n\nPlease RSVP for the lunch by Sunday\, April 19 so we have an accurate headcount for the meal: RSVP Link. See you there!
URL:https://holycrossbcs.org/event/impressions-team-appreciation-lunch/
LOCATION:Holy Cross Lutheran Church (Education Building)\, 1200 Foxfire Dr.\, College Station\, TX\, 77845\, United States
CATEGORIES:Community,HC Adults
ATTACH;FMTTYPE=image/png:https://holycrossbcs.org/wp-content/uploads/2026/04/Impressions-Team-Lunch.png
END:VEVENT
BEGIN:VEVENT
DTSTART;TZID=America/Chicago:20260517T120000
DTEND;TZID=America/Chicago:20260517T123000
DTSTAMP:20260419T185127
CREATED:20250929T140000Z
LAST-MODIFIED:20260409T195101Z
UID:10003179-1779019200-1779021000@holycrossbcs.org
SUMMARY:Q2 Voter's Meeting
DESCRIPTION:Voting members (18+ and confirmed) are encouraged to join our Q2 Voter’s Meeting on Sunday\, May 17 following second service worship in the Sanctuary. Come to hear updates on church business. Our church leadership seeks your input as we move forward in growing God’s Kingdom! \n  \nQuestions? Contact the Church Office at 979-764-3992 or office@holycrossbcs.org.
URL:https://holycrossbcs.org/event/q2-voters-meeting/
LOCATION:Holy Cross Lutheran Church (Worship Building)\, 1590 Sebesta Road\, College Station\, TX\, 77845\, United States
CATEGORIES:HC Adults
ATTACH;FMTTYPE=image/webp:https://holycrossbcs.org/wp-content/uploads/2025/09/Q2-Voters-Meeting-2026.webp
END:VEVENT
END:VCALENDAR