BEGIN:VCALENDAR
VERSION:2.0
PRODID:-//Holy Cross - ECPv6.15.20//NONSGML v1.0//EN
CALSCALE:GREGORIAN
METHOD:PUBLISH
X-ORIGINAL-URL:https://holycrossbcs.org
X-WR-CALDESC:Events for Holy Cross
REFRESH-INTERVAL;VALUE=DURATION:PT1H
X-Robots-Tag:noindex
X-PUBLISHED-TTL:PT1H
BEGIN:VTIMEZONE
TZID:America/Chicago
BEGIN:DAYLIGHT
TZOFFSETFROM:-0600
TZOFFSETTO:-0500
TZNAME:CDT
DTSTART:20250309T080000
END:DAYLIGHT
BEGIN:STANDARD
TZOFFSETFROM:-0500
TZOFFSETTO:-0600
TZNAME:CST
DTSTART:20251102T070000
END:STANDARD
BEGIN:DAYLIGHT
TZOFFSETFROM:-0600
TZOFFSETTO:-0500
TZNAME:CDT
DTSTART:20260308T080000
END:DAYLIGHT
BEGIN:STANDARD
TZOFFSETFROM:-0500
TZOFFSETTO:-0600
TZNAME:CST
DTSTART:20261101T070000
END:STANDARD
BEGIN:DAYLIGHT
TZOFFSETFROM:-0600
TZOFFSETTO:-0500
TZNAME:CDT
DTSTART:20270314T080000
END:DAYLIGHT
BEGIN:STANDARD
TZOFFSETFROM:-0500
TZOFFSETTO:-0600
TZNAME:CST
DTSTART:20271107T070000
END:STANDARD
END:VTIMEZONE
BEGIN:VEVENT
DTSTART;TZID=America/Chicago:20260521T190000
DTEND;TZID=America/Chicago:20260521T210000
DTSTAMP:20260419T170406
CREATED:20251223T165148Z
LAST-MODIFIED:20251229T204744Z
UID:10003262-1779390000-1779397200@holycrossbcs.org
SUMMARY:Wine and the Word
DESCRIPTION:Join us for our monthly gathering of “Wine and the Word.” This is a wonderful opportunity for the women of our church and community (21+) to engage in meaningful biblical conversations while enjoying a little wine. This women’s small group meets every third Thursday of the month\, providing a relaxed atmosphere for biblical discussions and fellowship. Mark your calendars! \nFor questions\, please contact the Church Office at 979-764-3992 or office@holycrossbcs.org.
URL:https://holycrossbcs.org/event/wine-and-the-word/2026-05-21/
LOCATION:TX
CATEGORIES:Bible Studies,HC Adults
ATTACH;FMTTYPE=image/webp:https://holycrossbcs.org/wp-content/uploads/2025/06/Wine-and-the-Word.webp
END:VEVENT
BEGIN:VEVENT
DTSTART;TZID=America/Chicago:20260524T093000
DTEND;TZID=America/Chicago:20260524T103000
DTSTAMP:20260419T170406
CREATED:20251229T193431Z
LAST-MODIFIED:20260313T122518Z
UID:10003685-1779615000-1779618600@holycrossbcs.org
SUMMARY:Praying Parents
DESCRIPTION:Being a parent can be messy and challenging\, but you’re not alone. Join Praying Parents every Sunday at 9:30am for discussion of real-life parenting topics with a Biblical foundation and time in prayer for our children and families. This class is a great space to connect with other parents (at all stages of parenthood)\, be encouraged\, and keep Christ at the center of your parenting. \nPraying Parents is located in Worship Building Classroom 202.
URL:https://holycrossbcs.org/event/praying-parents/2026-05-24/
LOCATION:Holy Cross Lutheran Church (Worship Building)\, 1590 Sebesta Road\, College Station\, TX\, 77845\, United States
CATEGORIES:Bible Studies,HC Adults,Sunday School
ATTACH;FMTTYPE=image/webp:https://holycrossbcs.org/wp-content/uploads/2025/04/Praying-Parents.webp
END:VEVENT
BEGIN:VEVENT
DTSTART;TZID=America/Chicago:20260524T093000
DTEND;TZID=America/Chicago:20260524T103000
DTSTAMP:20260419T170406
CREATED:20260204T180641Z
LAST-MODIFIED:20260313T122438Z
UID:10003591-1779615000-1779618600@holycrossbcs.org
SUMMARY:Adult Bible Class
DESCRIPTION:Join us Sunday mornings at 9:30 AM for our Adult Bible Class (ABC)—a welcoming space for learning and reflection in your faith journey led by Rev. Dennis Bragdon. During Lent\, Adult Bible Class will watch “The Passion of the Christ” (2004)\, one scene at a time\, and then compare it to what the Scriptures have to say about these events. May God bless our meditation on all that our Savior experienced for us in His suffering\, death\, and resurrection.  \nThis is discussion-based instruction\, so come ready to engage in conversation. Grab a cup of coffee\, bring your Bible and dive into the Scripture with us! \nABC is located in Education Building Rooms 105-107.
URL:https://holycrossbcs.org/event/adult-bible-class/2026-05-24/
LOCATION:Holy Cross Lutheran Church (Education Building)\, 1200 Foxfire Dr.\, College Station\, TX\, 77845\, United States
CATEGORIES:Bible Studies,HC Adults,Sunday School
ATTACH;FMTTYPE=image/webp:https://holycrossbcs.org/wp-content/uploads/2025/04/ABC.webp
END:VEVENT
BEGIN:VEVENT
DTSTART;VALUE=DATE:20260527
DTEND;VALUE=DATE:20260605
DTSTAMP:20260419T170406
CREATED:20251023T133021Z
LAST-MODIFIED:20251023T133040Z
UID:10003183-1779840000-1780617599@holycrossbcs.org
SUMMARY:HC Camping: Gulf Shores\, AL
DESCRIPTION:Are you ready to wander? Get involved with HC Camping Ministry! You are invited to join us for this upcoming camping trip: \n\nTentative Dates: May 27 – June 4\, 2026\nLocation: Gulf State Park (Gulf Shores\, AL)\nDetails: RV and Tent Sites\, Cabins\, Lodges and Hilton Hotel on site. Options for everyone.\nReservations: Gulf State Park Website\n\nContact Josh Muller at deere_bulldogs@yahoo.com to learn more.
URL:https://holycrossbcs.org/event/hc-camping-gulfshores-al/
LOCATION:TX
CATEGORIES:Community,HC Adults,HC Camping Ministry
ATTACH;FMTTYPE=image/webp:https://holycrossbcs.org/wp-content/uploads/2025/10/May26-HC-Camping-Trip.webp
END:VEVENT
BEGIN:VEVENT
DTSTART;TZID=America/Chicago:20260527T093000
DTEND;TZID=America/Chicago:20260527T110000
DTSTAMP:20260419T170406
CREATED:20260330T164336Z
LAST-MODIFIED:20260403T145813Z
UID:10003310-1779874200-1779879600@holycrossbcs.org
SUMMARY:Women in the Word
DESCRIPTION:Women in the Word meets every Wednesday morning at 9:30am in the Youth Room. Come for fellowship and stay for in depth Bible study led by Sheridan Bockelmann. The group is currently studying Leaning on Jesus: A Study of God’s Strength by Deb Burma. All ladies are welcome! \nQuestions? Contact the Church Office at 979-764-3992 or office@holycrossbcs.org.
URL:https://holycrossbcs.org/event/women-in-the-word/2026-05-27/
LOCATION:Holy Cross Lutheran Church (Education Building)\, 1200 Foxfire Dr.\, College Station\, TX\, 77845\, United States
CATEGORIES:Bible Studies,HC Adults
ATTACH;FMTTYPE=image/webp:https://holycrossbcs.org/wp-content/uploads/2025/06/Women-in-the-Word.webp
END:VEVENT
BEGIN:VEVENT
DTSTART;TZID=America/Chicago:20260611T183000
DTEND;TZID=America/Chicago:20260611T203000
DTSTAMP:20260419T170406
CREATED:20260306T042914Z
LAST-MODIFIED:20260306T043457Z
UID:10004115-1781202600-1781209800@holycrossbcs.org
SUMMARY:Theological Pub
DESCRIPTION:Join us for our monthly gathering of “Theological Pub”. This is an excellent opportunity for the men of our church and community (21+) to engage in meaningful biblical conversations while enjoying a little beer. This men’s small group meets every second Thursday of the month\, providing a relaxed atmosphere for Biblical discussions and fellowship. Mark your calendars! \nFor questions\, please contact the Church Office at 979-764-3992 or office@holycrossbcs.org.
URL:https://holycrossbcs.org/event/theological-pub/2026-06-11/
LOCATION:Holy Cross Lutheran Church (Education Building)\, 1200 Foxfire Dr.\, College Station\, TX\, 77845\, United States
CATEGORIES:Bible Studies,HC Adults
ATTACH;FMTTYPE=image/webp:https://holycrossbcs.org/wp-content/uploads/2025/06/Theological-Pub-1.webp
END:VEVENT
BEGIN:VEVENT
DTSTART;TZID=America/Chicago:20260613T100000
DTEND;TZID=America/Chicago:20260613T160000
DTSTAMP:20260419T170406
CREATED:20251229T202012Z
LAST-MODIFIED:20260409T201801Z
UID:10003923-1781344800-1781366400@holycrossbcs.org
SUMMARY:Creative Crafters
DESCRIPTION:Calling all crafters! Join Creative Crafters for a great time of fellowship and crafting. Bring your portable crafts (e.g.\, crochet\, scrapbooking\, sewing\, needlepoint) and get some work done away from the distractions of home. Creative Crafters meets in the Youth Room from 10:00am-4:00pm on the second Saturday of each month. \n\nFor questions\, please contact the Church Office at 979-764-3992 or office@holycrossbcs.org.
URL:https://holycrossbcs.org/event/creative-crafters/2026-06-13/
LOCATION:Holy Cross Lutheran Church (Education Building)\, 1200 Foxfire Dr.\, College Station\, TX\, 77845\, United States
CATEGORIES:Community,HC Adults
ATTACH;FMTTYPE=image/webp:https://holycrossbcs.org/wp-content/uploads/2025/11/Creative-Crafters.webp
END:VEVENT
END:VCALENDAR