BEGIN:VCALENDAR
VERSION:2.0
PRODID:-//Holy Cross - ECPv6.15.20//NONSGML v1.0//EN
CALSCALE:GREGORIAN
METHOD:PUBLISH
X-ORIGINAL-URL:https://holycrossbcs.org
X-WR-CALDESC:Events for Holy Cross
REFRESH-INTERVAL;VALUE=DURATION:PT1H
X-Robots-Tag:noindex
X-PUBLISHED-TTL:PT1H
BEGIN:VTIMEZONE
TZID:America/Chicago
BEGIN:DAYLIGHT
TZOFFSETFROM:-0600
TZOFFSETTO:-0500
TZNAME:CDT
DTSTART:20240310T080000
END:DAYLIGHT
BEGIN:STANDARD
TZOFFSETFROM:-0500
TZOFFSETTO:-0600
TZNAME:CST
DTSTART:20241103T070000
END:STANDARD
BEGIN:DAYLIGHT
TZOFFSETFROM:-0600
TZOFFSETTO:-0500
TZNAME:CDT
DTSTART:20250309T080000
END:DAYLIGHT
BEGIN:STANDARD
TZOFFSETFROM:-0500
TZOFFSETTO:-0600
TZNAME:CST
DTSTART:20251102T070000
END:STANDARD
BEGIN:DAYLIGHT
TZOFFSETFROM:-0600
TZOFFSETTO:-0500
TZNAME:CDT
DTSTART:20260308T080000
END:DAYLIGHT
BEGIN:STANDARD
TZOFFSETFROM:-0500
TZOFFSETTO:-0600
TZNAME:CST
DTSTART:20261101T070000
END:STANDARD
END:VTIMEZONE
BEGIN:VEVENT
DTSTART;TZID=America/Chicago:20250920T090000
DTEND;TZID=America/Chicago:20250920T150000
DTSTAMP:20260419T144900
CREATED:20250718T180114Z
LAST-MODIFIED:20250812T171000Z
UID:10002934-1758358800-1758380400@holycrossbcs.org
SUMMARY:Everyday Evangelism Workshop
DESCRIPTION:Hey\, Holy Cross! You’re invited to continue the journey of discovering your missional identity with us at the Everyday Evangelism Workshop on Saturday\, September 20 from 9:00am-3:00pm. Our goal is to equip you with the confidence and tools to share your faith in your everyday lives and to help form faith communities in everyday spaces where Jesus meets people with His abundant grace. We’re excited to grow with you!  \nPlease let us know if you are coming by registering at this link. Lunch and childcare will be provided.  \nIf you have questions\, please contact Rebekah Rodriguez (graphics@holycrossbcs.org) or Trey Steinmann (steinmanntrey@aol.com).
URL:https://holycrossbcs.org/event/everyday-evangelism-workshop/
LOCATION:Holy Cross Lutheran Church (Worship Building)\, 1590 Sebesta Road\, College Station\, TX\, 77845\, United States
CATEGORIES:HC Adults
ATTACH;FMTTYPE=image/webp:https://holycrossbcs.org/wp-content/uploads/2025/07/Evangelism-Workshop-1.webp
END:VEVENT
BEGIN:VEVENT
DTSTART;TZID=America/Chicago:20250824T183000
DTEND;TZID=America/Chicago:20250824T200000
DTSTAMP:20260419T144900
CREATED:20250819T162748Z
LAST-MODIFIED:20250819T162814Z
UID:10003113-1756060200-1756065600@holycrossbcs.org
SUMMARY:College Ministry Back to School Social
DESCRIPTION:Hey\, college kids (TAMU & Blinn)! You’re invited to our college ministry’s Back to School Social this Sunday\, August 24 at 6:30pm. Come for fellowship\, fun\, and a free dinner! Hosted at the home of Pete and Kelly Schmid. Bring a friend! \n  \nFor questions and directions\, contact the Church Office at 979-764-3992 or office@holycrossbcs.org.
URL:https://holycrossbcs.org/event/college-ministry-back-to-school-social/
LOCATION:TX
CATEGORIES:College Ministry,HC Adults
ATTACH;FMTTYPE=image/webp:https://holycrossbcs.org/wp-content/uploads/2025/08/College-Dinner.webp
END:VEVENT
BEGIN:VEVENT
DTSTART;TZID=America/Chicago:20250824T093000
DTEND;TZID=America/Chicago:20250824T103000
DTSTAMP:20260419T144900
CREATED:20250718T171732Z
LAST-MODIFIED:20250718T171732Z
UID:10002933-1756027800-1756031400@holycrossbcs.org
SUMMARY:Mission Moment: Hope Pregnancy Center
DESCRIPTION:Hope Pregnancy Center exists to promote life by providing resources and support to women in our community experiencing unplanned pregnancies. Holy Cross currently partners with Hope Pregnancy to provide financial support\, but is there more we can do to get involved as a congregation or as individuals? \nLearn more about Hope Pregnancy Center in August when we feature this organization as part of our quarterly Mission Moment series. If you want to support this ministry\, give anytime to Holy Cross and designate “Hope Pregnancy Center.” Follow this link to give online. \nThis event will be hosted in Education Building Rooms 105-107 at 9:30am during our Adult Bible Class. Questions? Contact the Church Office at 979-764-3992 or office@holycrossbcs.org.
URL:https://holycrossbcs.org/event/mission-moment-hope-pregnancy-center/
LOCATION:Holy Cross Lutheran Church (Education Building)\, 1200 Foxfire Dr.\, College Station\, TX\, 77845\, United States
CATEGORIES:HC Adults,Mission Moments,Sunday School
ATTACH;FMTTYPE=image/webp:https://holycrossbcs.org/wp-content/uploads/2025/07/Mission-Moment-Hope-Pregnancy-Center.webp
END:VEVENT
BEGIN:VEVENT
DTSTART;TZID=America/Chicago:20250821T193000
DTEND;TZID=America/Chicago:20250821T213000
DTSTAMP:20260419T144900
CREATED:20250724T194940Z
LAST-MODIFIED:20250724T203234Z
UID:10002935-1755804600-1755811800@holycrossbcs.org
SUMMARY:Happy Hour with Launch
DESCRIPTION:Hey\, young adults! Grab a drink and join the Launch Koinonia group for an evening of fellowship at The Owl – Pub & Grill in Downtown Bryan. Koinonia groups exist to connect with others in your demographic for fellowship and support. We hope to see you there! \n  \nQuestions? Contact the Church Office at 979-764-3992 or office@holycrossbcs.org.
URL:https://holycrossbcs.org/event/happy-hour-with-launch/
LOCATION:The Owl – Pub & Grill\, 315 S Main St Ste 113\, Bryan\, TX\, 77803\, United States
CATEGORIES:Community,HC Adults,Launch
ATTACH;FMTTYPE=image/webp:https://holycrossbcs.org/wp-content/uploads/2025/07/Launch-Happy-Hour.webp
END:VEVENT
BEGIN:VEVENT
DTSTART;TZID=America/Chicago:20250817T124500
DTEND;TZID=America/Chicago:20250817T134500
DTSTAMP:20260419T144900
CREATED:20250718T170438Z
LAST-MODIFIED:20250731T185200Z
UID:10002932-1755434700-1755438300@holycrossbcs.org
SUMMARY:Youth Gathering Update & Ice Cream  Social
DESCRIPTION:Stick around after our Q3 Voter’s Meeting for an update on the Youth Gathering and an ice cream treat! Hear testimonies from Youth Gathering participants about their transformative experiences in New Orleans in July. You don’t want this miss this! Actual start time follows the voter’s meeting.\n\n\n\nQuestions? Contact the Church Office at 979-764-3992
URL:https://holycrossbcs.org/event/youth-gathering-update-ice-cream-social/
LOCATION:Holy Cross Lutheran Church (Worship Building)\, 1590 Sebesta Road\, College Station\, TX\, 77845\, United States
CATEGORIES:HC Adults,HC Youth
ATTACH;FMTTYPE=image/webp:https://holycrossbcs.org/wp-content/uploads/2025/07/YG-Update-Ice-Cream.webp
END:VEVENT
BEGIN:VEVENT
DTSTART;TZID=America/Chicago:20250817T120000
DTEND;TZID=America/Chicago:20250817T123000
DTSTAMP:20260419T144900
CREATED:20250718T162105Z
LAST-MODIFIED:20250718T162105Z
UID:10002931-1755432000-1755433800@holycrossbcs.org
SUMMARY:Q3 Voter's Meeting
DESCRIPTION:Voting members (18+ and confirmed) are encouraged to join our Q3 Voter’s Meeting on Sunday\, August 17 at 12:00pm in the Sanctuary. Come to hear updates on church business\, including our building expansion plans. Our church leadership seeks your input as we move forward in growing God’s Kingdom! \n  \nQuestions? Contact the Church Office at 979-764-3992 -OR- office@holycrossbcs.org.
URL:https://holycrossbcs.org/event/q3-voters-meeting/
LOCATION:Holy Cross Lutheran Church (Worship Building)\, 1590 Sebesta Road\, College Station\, TX\, 77845\, United States
CATEGORIES:HC Adults
ATTACH;FMTTYPE=image/webp:https://holycrossbcs.org/wp-content/uploads/2025/07/Q3-Voters-Meeting.webp
END:VEVENT
BEGIN:VEVENT
DTSTART;TZID=America/Chicago:20250817T093000
DTEND;TZID=America/Chicago:20250817T103000
DTSTAMP:20260419T144900
CREATED:20250715T202406Z
LAST-MODIFIED:20250731T184828Z
UID:10002929-1755423000-1755426600@holycrossbcs.org
SUMMARY:Rally Day
DESCRIPTION:Help us kick off the new school year! Our Sunday School program hosts a special program to introduce this year’s classes for all ages starting off in the Sanctuary. HC Kids (2’s with Parent – 6th Grade) and HC Youth (Grades 7-12) advance to their new Sunday school classes. Meet your teacher\, see your classroom and enjoy a special breakfast. Adults\, enjoy breakfast and fellowship and learn about Sunday school options in the Worship Building Gathering Area. \nQuestions? Contact Brenda Lehmann\, Education Board Chairman\, at brendalehmann@gmail.com.
URL:https://holycrossbcs.org/event/rally-day/
LOCATION:TX
CATEGORIES:Community,HC Adults,HC Kids,HC Youth,Sunday School
ATTACH;FMTTYPE=image/webp:https://holycrossbcs.org/wp-content/uploads/2025/07/Rally-Day-2.webp
END:VEVENT
BEGIN:VEVENT
DTSTART;TZID=America/Chicago:20250816T150000
DTEND;TZID=America/Chicago:20250816T180000
DTSTAMP:20260419T144900
CREATED:20250718T153342Z
LAST-MODIFIED:20250718T161627Z
UID:10002930-1755356400-1755367200@holycrossbcs.org
SUMMARY:Music Bingo with Legacy & Seasoned Seniors
DESCRIPTION:Legacy and Seasoned Seniors koinonia groups are combining for Music Bingo featuring music from the 60’s\, 70’s and 80’s! This is bingo – not trivia – and it’s a lot of fun! Bring your own beverages and a snack to share as we gather in the Youth Room.\n\n\n\nQuestions? Contact the Church Office at 979-764-3992 -OR- office@holycrossbcs.org.
URL:https://holycrossbcs.org/event/music-bingo-with-legacy-seasoned-seniors/
LOCATION:Holy Cross Lutheran Church (Education Building)\, 1200 Foxfire Dr.\, College Station\, TX\, 77845\, United States
CATEGORIES:Community,HC Adults,Legacy,Seasoned Seniors
ATTACH;FMTTYPE=image/webp:https://holycrossbcs.org/wp-content/uploads/2025/07/Music-Bingo.webp
END:VEVENT
BEGIN:VEVENT
DTSTART;TZID=America/Chicago:20250725T183000
DTEND;TZID=America/Chicago:20250725T203000
DTSTAMP:20260419T144900
CREATED:20250702T200613Z
LAST-MODIFIED:20250702T200613Z
UID:10002871-1753468200-1753475400@holycrossbcs.org
SUMMARY:Forge Family Fun Night
DESCRIPTION:Hey families\, join us for a family fun night this summer! The Lehmann family hosts a fun evening of fellowship\, eating\, and swimming for our Forge Koinonia group. Bring food for your family\, but dessert will be provided. The pool will be open\, so feel free to bring pool toys.\n\n\n\n\n\n\n\nFor directions and questions\, please contact the church office (979-764-3992 -OR- office@holycrossbcs.org).
URL:https://holycrossbcs.org/event/forge-family-fun-night/
LOCATION:TX
CATEGORIES:Community,Forge,HC Adults,HC Kids
ATTACH;FMTTYPE=image/webp:https://holycrossbcs.org/wp-content/uploads/2025/07/Forge-Family-Fun-Night.webp
END:VEVENT
BEGIN:VEVENT
DTSTART;TZID=America/Chicago:20250711T193000
DTEND;TZID=America/Chicago:20250711T223000
DTSTAMP:20260419T144900
CREATED:20250702T201328Z
LAST-MODIFIED:20250709T172213Z
UID:10002872-1752262200-1752273000@holycrossbcs.org
SUMMARY:Legacy Concert: Brazos Valley All Star Band
DESCRIPTION:Hey\, Legacy group! Join us for an evening of great music\, bites\, cocktails\, and company. The Legacy Koinonia group will be meeting at Canteen Bar & Grill in Century Square for a live music event by Brazos Valley All Star Band. We can’t wait to see you there! \n\n\nFor questions\, please contact the church office (979 764-3992 -OR- office@holycrossbcs.org). \n\n\n\n\n\n 
URL:https://holycrossbcs.org/event/legacy-concert-bvasb/
LOCATION:Canteen Bar & Grill\, 200 Century Ct\, College Station\, TX\, 77840\, United States
CATEGORIES:Community,HC Adults,Legacy
ATTACH;FMTTYPE=image/webp:https://holycrossbcs.org/wp-content/uploads/2025/07/Legacy-Concert-BVASB.webp
END:VEVENT
END:VCALENDAR