BEGIN:VCALENDAR
VERSION:2.0
PRODID:-//Holy Cross - ECPv6.15.20//NONSGML v1.0//EN
CALSCALE:GREGORIAN
METHOD:PUBLISH
X-ORIGINAL-URL:https://holycrossbcs.org
X-WR-CALDESC:Events for Holy Cross
REFRESH-INTERVAL;VALUE=DURATION:PT1H
X-Robots-Tag:noindex
X-PUBLISHED-TTL:PT1H
BEGIN:VTIMEZONE
TZID:America/Chicago
BEGIN:DAYLIGHT
TZOFFSETFROM:-0600
TZOFFSETTO:-0500
TZNAME:CDT
DTSTART:20250309T080000
END:DAYLIGHT
BEGIN:STANDARD
TZOFFSETFROM:-0500
TZOFFSETTO:-0600
TZNAME:CST
DTSTART:20251102T070000
END:STANDARD
BEGIN:DAYLIGHT
TZOFFSETFROM:-0600
TZOFFSETTO:-0500
TZNAME:CDT
DTSTART:20260308T080000
END:DAYLIGHT
BEGIN:STANDARD
TZOFFSETFROM:-0500
TZOFFSETTO:-0600
TZNAME:CST
DTSTART:20261101T070000
END:STANDARD
BEGIN:DAYLIGHT
TZOFFSETFROM:-0600
TZOFFSETTO:-0500
TZNAME:CDT
DTSTART:20270314T080000
END:DAYLIGHT
BEGIN:STANDARD
TZOFFSETFROM:-0500
TZOFFSETTO:-0600
TZNAME:CST
DTSTART:20271107T070000
END:STANDARD
END:VTIMEZONE
BEGIN:VEVENT
DTSTART;VALUE=DATE:20260109
DTEND;VALUE=DATE:20260112
DTSTAMP:20260422T173345
CREATED:20251023T130139Z
LAST-MODIFIED:20251023T132805Z
UID:10003181-1767916800-1768175999@holycrossbcs.org
SUMMARY:HC Camping: Fayetteville\, TX
DESCRIPTION:Are you ready to wander? Get involved with HC Camping Ministry! You are invited to join us for this upcoming camping trip: \n\nDates: January 9-11\, 2026\nLocation: Lake Fayette Oak Thicket Park (Fayetteville\, TX)\nDetails: RV Tent Sites as well as Screened Shelters and Cabins. Book around site 18.\nReservations: Lake Fayette Oak Thicket Park Website\n\nContact Josh Muller at deere_bulldogs@yahoo.com to learn more.
URL:https://holycrossbcs.org/event/hc-camping-fayetteville-tx/
LOCATION:TX
CATEGORIES:Community,HC Adults,HC Camping Ministry
ATTACH;FMTTYPE=image/webp:https://holycrossbcs.org/wp-content/uploads/2025/10/Jan26-HC-Camping-Trip.webp
END:VEVENT
BEGIN:VEVENT
DTSTART;TZID=America/Chicago:20260115T190000
DTEND;TZID=America/Chicago:20260115T210000
DTSTAMP:20260422T173345
CREATED:20251223T165148Z
LAST-MODIFIED:20260420T160000Z
UID:10002870-1768503600-1768510800@holycrossbcs.org
SUMMARY:Wine and the Word
DESCRIPTION:Join us for our monthly gathering of “Wine and the Word.” This is a wonderful opportunity for the women of our church and community (21+) to engage in meaningful biblical conversations while enjoying a little wine. This women’s small group meets every third Thursday of the month (breaks June-August)\, providing a relaxed atmosphere for biblical discussions and fellowship. Mark your calendars! \nFor questions\, please contact the Church Office at 979-764-3992 or office@holycrossbcs.org.
URL:https://holycrossbcs.org/event/wine-and-the-word/2026-01-15/
LOCATION:TX
CATEGORIES:Bible Studies,HC Adults
ATTACH;FMTTYPE=image/webp:https://holycrossbcs.org/wp-content/uploads/2025/06/Wine-and-the-Word.webp
END:VEVENT
END:VCALENDAR