BEGIN:VCALENDAR
VERSION:2.0
PRODID:-//Holy Cross - ECPv6.15.20//NONSGML v1.0//EN
CALSCALE:GREGORIAN
METHOD:PUBLISH
X-WR-CALNAME:Holy Cross
X-ORIGINAL-URL:https://holycrossbcs.org
X-WR-CALDESC:Events for Holy Cross
REFRESH-INTERVAL;VALUE=DURATION:PT1H
X-Robots-Tag:noindex
X-PUBLISHED-TTL:PT1H
BEGIN:VTIMEZONE
TZID:America/Chicago
BEGIN:DAYLIGHT
TZOFFSETFROM:-0600
TZOFFSETTO:-0500
TZNAME:CDT
DTSTART:20250309T080000
END:DAYLIGHT
BEGIN:STANDARD
TZOFFSETFROM:-0500
TZOFFSETTO:-0600
TZNAME:CST
DTSTART:20251102T070000
END:STANDARD
BEGIN:DAYLIGHT
TZOFFSETFROM:-0600
TZOFFSETTO:-0500
TZNAME:CDT
DTSTART:20260308T080000
END:DAYLIGHT
BEGIN:STANDARD
TZOFFSETFROM:-0500
TZOFFSETTO:-0600
TZNAME:CST
DTSTART:20261101T070000
END:STANDARD
BEGIN:DAYLIGHT
TZOFFSETFROM:-0600
TZOFFSETTO:-0500
TZNAME:CDT
DTSTART:20270314T080000
END:DAYLIGHT
BEGIN:STANDARD
TZOFFSETFROM:-0500
TZOFFSETTO:-0600
TZNAME:CST
DTSTART:20271107T070000
END:STANDARD
END:VTIMEZONE
BEGIN:VEVENT
DTSTART;TZID=America/Chicago:20260401T093000
DTEND;TZID=America/Chicago:20260401T110000
DTSTAMP:20260419T170047
CREATED:20260330T164336Z
LAST-MODIFIED:20260403T145813Z
UID:10003302-1775035800-1775041200@holycrossbcs.org
SUMMARY:Women in the Word
DESCRIPTION:Women in the Word meets every Wednesday morning at 9:30am in the Youth Room. Come for fellowship and stay for in depth Bible study led by Sheridan Bockelmann. The group is currently studying Leaning on Jesus: A Study of God’s Strength by Deb Burma. All ladies are welcome! \nQuestions? Contact the Church Office at 979-764-3992 or office@holycrossbcs.org.
URL:https://holycrossbcs.org/event/women-in-the-word/2026-04-01/
LOCATION:Holy Cross Lutheran Church (Education Building)\, 1200 Foxfire Dr.\, College Station\, TX\, 77845\, United States
CATEGORIES:Bible Studies,HC Adults
ATTACH;FMTTYPE=image/webp:https://holycrossbcs.org/wp-content/uploads/2025/06/Women-in-the-Word.webp
END:VEVENT
END:VCALENDAR