BEGIN:VCALENDAR
VERSION:2.0
PRODID:-//Holy Cross - ECPv6.15.20//NONSGML v1.0//EN
CALSCALE:GREGORIAN
METHOD:PUBLISH
X-WR-CALNAME:Holy Cross
X-ORIGINAL-URL:https://holycrossbcs.org
X-WR-CALDESC:Events for Holy Cross
REFRESH-INTERVAL;VALUE=DURATION:PT1H
X-Robots-Tag:noindex
X-PUBLISHED-TTL:PT1H
BEGIN:VTIMEZONE
TZID:America/Chicago
BEGIN:DAYLIGHT
TZOFFSETFROM:-0600
TZOFFSETTO:-0500
TZNAME:CDT
DTSTART:20250309T080000
END:DAYLIGHT
BEGIN:STANDARD
TZOFFSETFROM:-0500
TZOFFSETTO:-0600
TZNAME:CST
DTSTART:20251102T070000
END:STANDARD
BEGIN:DAYLIGHT
TZOFFSETFROM:-0600
TZOFFSETTO:-0500
TZNAME:CDT
DTSTART:20260308T080000
END:DAYLIGHT
BEGIN:STANDARD
TZOFFSETFROM:-0500
TZOFFSETTO:-0600
TZNAME:CST
DTSTART:20261101T070000
END:STANDARD
BEGIN:DAYLIGHT
TZOFFSETFROM:-0600
TZOFFSETTO:-0500
TZNAME:CDT
DTSTART:20270314T080000
END:DAYLIGHT
BEGIN:STANDARD
TZOFFSETFROM:-0500
TZOFFSETTO:-0600
TZNAME:CST
DTSTART:20271107T070000
END:STANDARD
END:VTIMEZONE
BEGIN:VEVENT
DTSTART;TZID=America/Chicago:20260408T093000
DTEND;TZID=America/Chicago:20260408T110000
DTSTAMP:20260419T163239
CREATED:20260330T164336Z
LAST-MODIFIED:20260403T145813Z
UID:10004130-1775640600-1775646000@holycrossbcs.org
SUMMARY:Women in the Word
DESCRIPTION:Women in the Word meets every Wednesday morning at 9:30am in the Youth Room. Come for fellowship and stay for in depth Bible study led by Sheridan Bockelmann. The group is currently studying Leaning on Jesus: A Study of God’s Strength by Deb Burma. All ladies are welcome! \nQuestions? Contact the Church Office at 979-764-3992 or office@holycrossbcs.org.
URL:https://holycrossbcs.org/event/women-in-the-word/2026-04-08/
LOCATION:Holy Cross Lutheran Church (Education Building)\, 1200 Foxfire Dr.\, College Station\, TX\, 77845\, United States
CATEGORIES:Bible Studies,HC Adults
ATTACH;FMTTYPE=image/webp:https://holycrossbcs.org/wp-content/uploads/2025/06/Women-in-the-Word.webp
END:VEVENT
BEGIN:VEVENT
DTSTART;TZID=America/Chicago:20260409T183000
DTEND;TZID=America/Chicago:20260409T203000
DTSTAMP:20260419T163239
CREATED:20260306T042914Z
LAST-MODIFIED:20260306T043457Z
UID:10004113-1775759400-1775766600@holycrossbcs.org
SUMMARY:Theological Pub
DESCRIPTION:Join us for our monthly gathering of “Theological Pub”. This is an excellent opportunity for the men of our church and community (21+) to engage in meaningful biblical conversations while enjoying a little beer. This men’s small group meets every second Thursday of the month\, providing a relaxed atmosphere for Biblical discussions and fellowship. Mark your calendars! \nFor questions\, please contact the Church Office at 979-764-3992 or office@holycrossbcs.org.
URL:https://holycrossbcs.org/event/theological-pub/2026-04-09/
LOCATION:Holy Cross Lutheran Church (Education Building)\, 1200 Foxfire Dr.\, College Station\, TX\, 77845\, United States
CATEGORIES:Bible Studies,HC Adults
ATTACH;FMTTYPE=image/webp:https://holycrossbcs.org/wp-content/uploads/2025/06/Theological-Pub-1.webp
END:VEVENT
END:VCALENDAR