BEGIN:VCALENDAR
VERSION:2.0
PRODID:-//Holy Cross - ECPv6.15.20//NONSGML v1.0//EN
CALSCALE:GREGORIAN
METHOD:PUBLISH
X-WR-CALNAME:Holy Cross
X-ORIGINAL-URL:https://holycrossbcs.org
X-WR-CALDESC:Events for Holy Cross
REFRESH-INTERVAL;VALUE=DURATION:PT1H
X-Robots-Tag:noindex
X-PUBLISHED-TTL:PT1H
BEGIN:VTIMEZONE
TZID:America/Chicago
BEGIN:DAYLIGHT
TZOFFSETFROM:-0600
TZOFFSETTO:-0500
TZNAME:CDT
DTSTART:20250309T080000
END:DAYLIGHT
BEGIN:STANDARD
TZOFFSETFROM:-0500
TZOFFSETTO:-0600
TZNAME:CST
DTSTART:20251102T070000
END:STANDARD
BEGIN:DAYLIGHT
TZOFFSETFROM:-0600
TZOFFSETTO:-0500
TZNAME:CDT
DTSTART:20260308T080000
END:DAYLIGHT
BEGIN:STANDARD
TZOFFSETFROM:-0500
TZOFFSETTO:-0600
TZNAME:CST
DTSTART:20261101T070000
END:STANDARD
BEGIN:DAYLIGHT
TZOFFSETFROM:-0600
TZOFFSETTO:-0500
TZNAME:CDT
DTSTART:20270314T080000
END:DAYLIGHT
BEGIN:STANDARD
TZOFFSETFROM:-0500
TZOFFSETTO:-0600
TZNAME:CST
DTSTART:20271107T070000
END:STANDARD
END:VTIMEZONE
BEGIN:VEVENT
DTSTART;TZID=America/Chicago:20260510T093000
DTEND;TZID=America/Chicago:20260510T103000
DTSTAMP:20260419T164425
CREATED:20251229T193431Z
LAST-MODIFIED:20260313T122518Z
UID:10003683-1778405400-1778409000@holycrossbcs.org
SUMMARY:Praying Parents
DESCRIPTION:Being a parent can be messy and challenging\, but you’re not alone. Join Praying Parents every Sunday at 9:30am for discussion of real-life parenting topics with a Biblical foundation and time in prayer for our children and families. This class is a great space to connect with other parents (at all stages of parenthood)\, be encouraged\, and keep Christ at the center of your parenting. \nPraying Parents is located in Worship Building Classroom 202.
URL:https://holycrossbcs.org/event/praying-parents/2026-05-10/
LOCATION:Holy Cross Lutheran Church (Worship Building)\, 1590 Sebesta Road\, College Station\, TX\, 77845\, United States
CATEGORIES:Bible Studies,HC Adults,Sunday School
ATTACH;FMTTYPE=image/webp:https://holycrossbcs.org/wp-content/uploads/2025/04/Praying-Parents.webp
END:VEVENT
BEGIN:VEVENT
DTSTART;TZID=America/Chicago:20260510T093000
DTEND;TZID=America/Chicago:20260510T103000
DTSTAMP:20260419T164425
CREATED:20260130T130112Z
LAST-MODIFIED:20260130T130354Z
UID:10004090-1778405400-1778409000@holycrossbcs.org
SUMMARY:How the Light Shines Through
DESCRIPTION:In a society that is fractured and divided\, the Church needs an outreach perspective focused on the healing that Christ brings to the darkness of this world. Join Trey Steinmann for a new adult Sunday school class based study on the book\, How the Light Shines Through: Resilient Witness in Dark Times by Chad Lakies. Contact the Church Office to order your book so you can be prepared for the first class. \nThis will be a 10-week\, discussion-based class that covers one chapter per week. Located in the Lighthouse. Questions? Contact the Church Office at (979) 764-3992 or office@holycrossbcs.org.
URL:https://holycrossbcs.org/event/how-the-light-shines-through/2026-05-10/
LOCATION:TX
CATEGORIES:Bible Studies,HC Adults,Sunday School
ATTACH;FMTTYPE=image/webp:https://holycrossbcs.org/wp-content/uploads/2026/01/Outreach-Sunday-School.webp
END:VEVENT
BEGIN:VEVENT
DTSTART;TZID=America/Chicago:20260510T093000
DTEND;TZID=America/Chicago:20260510T103000
DTSTAMP:20260419T164425
CREATED:20260204T180641Z
LAST-MODIFIED:20260313T122438Z
UID:10003589-1778405400-1778409000@holycrossbcs.org
SUMMARY:Adult Bible Class
DESCRIPTION:Join us Sunday mornings at 9:30 AM for our Adult Bible Class (ABC)—a welcoming space for learning and reflection in your faith journey led by Rev. Dennis Bragdon. During Lent\, Adult Bible Class will watch “The Passion of the Christ” (2004)\, one scene at a time\, and then compare it to what the Scriptures have to say about these events. May God bless our meditation on all that our Savior experienced for us in His suffering\, death\, and resurrection.  \nThis is discussion-based instruction\, so come ready to engage in conversation. Grab a cup of coffee\, bring your Bible and dive into the Scripture with us! \nABC is located in Education Building Rooms 105-107.
URL:https://holycrossbcs.org/event/adult-bible-class/2026-05-10/
LOCATION:Holy Cross Lutheran Church (Education Building)\, 1200 Foxfire Dr.\, College Station\, TX\, 77845\, United States
CATEGORIES:Bible Studies,HC Adults,Sunday School
ATTACH;FMTTYPE=image/webp:https://holycrossbcs.org/wp-content/uploads/2025/04/ABC.webp
END:VEVENT
BEGIN:VEVENT
DTSTART;TZID=America/Chicago:20260513T093000
DTEND;TZID=America/Chicago:20260513T110000
DTSTAMP:20260419T164425
CREATED:20260330T164336Z
LAST-MODIFIED:20260403T145813Z
UID:10003308-1778664600-1778670000@holycrossbcs.org
SUMMARY:Women in the Word
DESCRIPTION:Women in the Word meets every Wednesday morning at 9:30am in the Youth Room. Come for fellowship and stay for in depth Bible study led by Sheridan Bockelmann. The group is currently studying Leaning on Jesus: A Study of God’s Strength by Deb Burma. All ladies are welcome! \nQuestions? Contact the Church Office at 979-764-3992 or office@holycrossbcs.org.
URL:https://holycrossbcs.org/event/women-in-the-word/2026-05-13/
LOCATION:Holy Cross Lutheran Church (Education Building)\, 1200 Foxfire Dr.\, College Station\, TX\, 77845\, United States
CATEGORIES:Bible Studies,HC Adults
ATTACH;FMTTYPE=image/webp:https://holycrossbcs.org/wp-content/uploads/2025/06/Women-in-the-Word.webp
END:VEVENT
BEGIN:VEVENT
DTSTART;TZID=America/Chicago:20260514T183000
DTEND;TZID=America/Chicago:20260514T203000
DTSTAMP:20260419T164425
CREATED:20260306T042914Z
LAST-MODIFIED:20260306T043457Z
UID:10004114-1778783400-1778790600@holycrossbcs.org
SUMMARY:Theological Pub
DESCRIPTION:Join us for our monthly gathering of “Theological Pub”. This is an excellent opportunity for the men of our church and community (21+) to engage in meaningful biblical conversations while enjoying a little beer. This men’s small group meets every second Thursday of the month\, providing a relaxed atmosphere for Biblical discussions and fellowship. Mark your calendars! \nFor questions\, please contact the Church Office at 979-764-3992 or office@holycrossbcs.org.
URL:https://holycrossbcs.org/event/theological-pub/2026-05-14/
LOCATION:Holy Cross Lutheran Church (Education Building)\, 1200 Foxfire Dr.\, College Station\, TX\, 77845\, United States
CATEGORIES:Bible Studies,HC Adults
ATTACH;FMTTYPE=image/webp:https://holycrossbcs.org/wp-content/uploads/2025/06/Theological-Pub-1.webp
END:VEVENT
END:VCALENDAR