BEGIN:VCALENDAR
VERSION:2.0
PRODID:-//Holy Cross - ECPv6.15.20//NONSGML v1.0//EN
CALSCALE:GREGORIAN
METHOD:PUBLISH
X-WR-CALNAME:Holy Cross
X-ORIGINAL-URL:https://holycrossbcs.org
X-WR-CALDESC:Events for Holy Cross
REFRESH-INTERVAL;VALUE=DURATION:PT1H
X-Robots-Tag:noindex
X-PUBLISHED-TTL:PT1H
BEGIN:VTIMEZONE
TZID:America/Chicago
BEGIN:DAYLIGHT
TZOFFSETFROM:-0600
TZOFFSETTO:-0500
TZNAME:CDT
DTSTART:20250309T080000
END:DAYLIGHT
BEGIN:STANDARD
TZOFFSETFROM:-0500
TZOFFSETTO:-0600
TZNAME:CST
DTSTART:20251102T070000
END:STANDARD
BEGIN:DAYLIGHT
TZOFFSETFROM:-0600
TZOFFSETTO:-0500
TZNAME:CDT
DTSTART:20260308T080000
END:DAYLIGHT
BEGIN:STANDARD
TZOFFSETFROM:-0500
TZOFFSETTO:-0600
TZNAME:CST
DTSTART:20261101T070000
END:STANDARD
BEGIN:DAYLIGHT
TZOFFSETFROM:-0600
TZOFFSETTO:-0500
TZNAME:CDT
DTSTART:20270314T080000
END:DAYLIGHT
BEGIN:STANDARD
TZOFFSETFROM:-0500
TZOFFSETTO:-0600
TZNAME:CST
DTSTART:20271107T070000
END:STANDARD
END:VTIMEZONE
BEGIN:VEVENT
DTSTART;TZID=America/Chicago:20260419T093000
DTEND;TZID=America/Chicago:20260419T103000
DTSTAMP:20260419T071600
CREATED:20251229T192920Z
LAST-MODIFIED:20260313T122507Z
UID:10003633-1776591000-1776594600@holycrossbcs.org
SUMMARY:HC Youth Bible Study
DESCRIPTION:Our Youth Bible Study meets every Sunday at 9:30 AM and is designed for students in grades 7–12 to deepen their faith and grow in their relationship with Christ. Each week includes Bible study\, discussion\, and time to connect with friends and leaders who care. We discuss relevant topics and look at how God’s Word applies to everyday life as a teenager. All are welcome here! \nHC Youth meet in the Youth Room of the Education Building.
URL:https://holycrossbcs.org/event/hc-youth-bible-study/2026-04-19/
LOCATION:Holy Cross Lutheran Church (Education Building)\, 1200 Foxfire Dr.\, College Station\, TX\, 77845\, United States
CATEGORIES:HC Youth,Sunday School
ATTACH;FMTTYPE=image/webp:https://holycrossbcs.org/wp-content/uploads/2025/04/HC-Youth-Sunday-1.webp
END:VEVENT
BEGIN:VEVENT
DTSTART;TZID=America/Chicago:20260422T180000
DTEND;TZID=America/Chicago:20260422T193000
DTSTAMP:20260419T071600
CREATED:20251229T195749Z
LAST-MODIFIED:20260106T214148Z
UID:10003975-1776880800-1776886200@holycrossbcs.org
SUMMARY:HC Youth Wednesday Nights
DESCRIPTION:HC Youth (Grades 7-12) meet every Wednesday night from 6:00-7:30pm to grow in their faith and connect with each other. Gather for a meal\, fellowship\, and Bible study. Bring a friend and join us!  \n\nFor questions\, please contact the Church Office at 979-764-3992 or office@holycrossbcs.org.
URL:https://holycrossbcs.org/event/hc-youth-wednesday-nights/2026-04-22/
LOCATION:Holy Cross Lutheran Church (Education Building)\, 1200 Foxfire Dr.\, College Station\, TX\, 77845\, United States
CATEGORIES:HC Youth
ATTACH;FMTTYPE=image/webp:https://holycrossbcs.org/wp-content/uploads/2025/04/Wednesday-Youth-1.webp
END:VEVENT
BEGIN:VEVENT
DTSTART;TZID=America/Chicago:20260502T080000
DTEND;TZID=America/Chicago:20260502T120000
DTSTAMP:20260419T071600
CREATED:20260409T193823Z
LAST-MODIFIED:20260415T120858Z
UID:10004133-1777708800-1777723200@holycrossbcs.org
SUMMARY:HC Youth Garage Sale
DESCRIPTION:HC Youth host a community-wide garage sale fundraiser this May. All monies raised benefit youth activities. Come shop ’til you drop and support our youth!
URL:https://holycrossbcs.org/event/hc-youth-garage-sale/
CATEGORIES:Community,HC Youth
ATTACH;FMTTYPE=image/webp:https://holycrossbcs.org/wp-content/uploads/2026/04/HC-Youth-Garage-Sale.webp
END:VEVENT
BEGIN:VEVENT
DTSTART;TZID=America/Chicago:20260503T091500
DTEND;TZID=America/Chicago:20260503T103000
DTSTAMP:20260419T071600
CREATED:20250227T000907Z
LAST-MODIFIED:20260106T215026Z
UID:10003366-1777799700-1777804200@holycrossbcs.org
SUMMARY:HC Youth Breakfast Fundraiser
DESCRIPTION:Make this Sunday a win-win by grabbing breakfast at church while supporting HC Youth. Stop by Holy Grounds or the Kitchen in the Education Building between services for a delicious continental breakfast. Thank you for your free will donation!
URL:https://holycrossbcs.org/event/hc-youth-breakfast-fundraiser/2026-05-03/
LOCATION:Holy Cross Lutheran Church (Education Building)\, 1200 Foxfire Dr.\, College Station\, TX\, 77845\, United States
CATEGORIES:HC Youth
ATTACH;FMTTYPE=image/webp:https://holycrossbcs.org/wp-content/uploads/2025/02/Youth-Breakfast-Fundraiser-1-1.webp
END:VEVENT
BEGIN:VEVENT
DTSTART;VALUE=DATE:20260517
DTEND;VALUE=DATE:20260518
DTSTAMP:20260419T071600
CREATED:20260409T194435Z
LAST-MODIFIED:20260409T194435Z
UID:10004134-1778976000-1779062399@holycrossbcs.org
SUMMARY:Senior Sunday
DESCRIPTION:Holy Cross celebrates the upcoming graduation of our high school seniors. We are proud of our students for working hard to achieve their goals while putting Christ first in all they do. Join us on Sunday\, May 17 for a special recognition of our graduating seniors during both services. See you there!
URL:https://holycrossbcs.org/event/senior-sunday/
CATEGORIES:HC Youth
ATTACH;FMTTYPE=image/webp:https://holycrossbcs.org/wp-content/uploads/2026/04/Senior-Sunday.webp
END:VEVENT
BEGIN:VEVENT
DTSTART;VALUE=DATE:20260614
DTEND;VALUE=DATE:20260619
DTSTAMP:20260419T071600
CREATED:20260320T203722Z
LAST-MODIFIED:20260408T051956Z
UID:10004127-1781395200-1781827199@holycrossbcs.org
SUMMARY:Rainforest Falls VBS 2026
DESCRIPTION:On June 14-18\, HC Kids and friends will take an adventure through Rainforest Falls\, exploring the True Nature of God and what it means to be rooted in relationship with Him! VBS Registration for participants (2’s w/a parent – 6th grade) and volunteers (7th grade – Adult) is now open to all. \nRegistration Link: https://vbspro.events/p/a2b7cf \nMeals will be served starting at 5:30pm and the program will run from 6:00-8:10pm. Register by May 15 to guarantee a t-shirt. \nQuestions? Contact Youth Director Jackie Wolf at youth@holycrossbcs.org. \n 
URL:https://holycrossbcs.org/event/rainforest-falls-vbs-2026/
CATEGORIES:Community,HC Kids,HC Youth
ATTACH;FMTTYPE=image/webp:https://holycrossbcs.org/wp-content/uploads/2026/03/VBS-2026.webp
END:VEVENT
BEGIN:VEVENT
DTSTART;VALUE=DATE:20260622
DTEND;VALUE=DATE:20260625
DTSTAMP:20260419T071600
CREATED:20260409T180742Z
LAST-MODIFIED:20260409T180742Z
UID:10004132-1782086400-1782345599@holycrossbcs.org
SUMMARY:HC Youth Summer Serve
DESCRIPTION:Summer Serve is a 3-day\, community-wide service project for HC Youth (7th-12th Grade). This is a great experience as youth learn the importance of serving while having fun with friends. Registration opens soon (4/15). Keep an eye out for more details to come soon!
URL:https://holycrossbcs.org/event/hc-youth-summer-serve/
CATEGORIES:HC Youth
ATTACH;FMTTYPE=image/webp:https://holycrossbcs.org/wp-content/uploads/2026/04/Summer-Serve-2026.webp
END:VEVENT
END:VCALENDAR