BEGIN:VCALENDAR
VERSION:2.0
PRODID:-//Holy Cross - ECPv6.15.20//NONSGML v1.0//EN
CALSCALE:GREGORIAN
METHOD:PUBLISH
X-ORIGINAL-URL:https://holycrossbcs.org
X-WR-CALDESC:Events for Holy Cross
REFRESH-INTERVAL;VALUE=DURATION:PT1H
X-Robots-Tag:noindex
X-PUBLISHED-TTL:PT1H
BEGIN:VTIMEZONE
TZID:America/Chicago
BEGIN:DAYLIGHT
TZOFFSETFROM:-0600
TZOFFSETTO:-0500
TZNAME:CDT
DTSTART:20250309T080000
END:DAYLIGHT
BEGIN:STANDARD
TZOFFSETFROM:-0500
TZOFFSETTO:-0600
TZNAME:CST
DTSTART:20251102T070000
END:STANDARD
BEGIN:DAYLIGHT
TZOFFSETFROM:-0600
TZOFFSETTO:-0500
TZNAME:CDT
DTSTART:20260308T080000
END:DAYLIGHT
BEGIN:STANDARD
TZOFFSETFROM:-0500
TZOFFSETTO:-0600
TZNAME:CST
DTSTART:20261101T070000
END:STANDARD
BEGIN:DAYLIGHT
TZOFFSETFROM:-0600
TZOFFSETTO:-0500
TZNAME:CDT
DTSTART:20270314T080000
END:DAYLIGHT
BEGIN:STANDARD
TZOFFSETFROM:-0500
TZOFFSETTO:-0600
TZNAME:CST
DTSTART:20271107T070000
END:STANDARD
END:VTIMEZONE
BEGIN:VEVENT
DTSTART;TZID=America/Chicago:20260517T170000
DTEND;TZID=America/Chicago:20260517T200000
DTSTAMP:20260421T202301
CREATED:20260420T163230Z
LAST-MODIFIED:20260420T163917Z
UID:10004135-1779037200-1779048000@holycrossbcs.org
SUMMARY:Legacy Concert Night: Chicago Tribute Band
DESCRIPTION:Legacy gathers (~50-65) at Bernhardt Winery to enjoy the a Tribute to Chicago by the San Antonio Transit band. The concert is from 6-8pm but the group arrives around 5pm to enjoy a glass of wine and get settled. Bring snacks to share! Don’t forget your lawn chairs and to purchase your tickets prior to May 17th. \nPurchase Tickets & Event Details: https://www.bernhardtwinery.com/tc-events/playing-chicagos-greatest-hits-san-antonio-transit/ \nQuestions? Contact the Church Office at (979) 764-3992 or office@holycrossbcs.org.
URL:https://holycrossbcs.org/event/legacy-concert-night-chicago/
LOCATION:Bernhardt Winery\, 9043 County Road 204\, Plantersville\, TX\, 77363\, United States
CATEGORIES:HC Adults,Legacy
ATTACH;FMTTYPE=image/webp:https://holycrossbcs.org/wp-content/uploads/2026/04/Legacy-Concert-Greatest-Hits-of-Chicago.webp
END:VEVENT
END:VCALENDAR