BEGIN:VCALENDAR
VERSION:2.0
PRODID:-//Holy Cross - ECPv6.15.20//NONSGML v1.0//EN
CALSCALE:GREGORIAN
METHOD:PUBLISH
X-ORIGINAL-URL:https://holycrossbcs.org
X-WR-CALDESC:Events for Holy Cross
REFRESH-INTERVAL;VALUE=DURATION:PT1H
X-Robots-Tag:noindex
X-PUBLISHED-TTL:PT1H
BEGIN:VTIMEZONE
TZID:America/Chicago
BEGIN:DAYLIGHT
TZOFFSETFROM:-0600
TZOFFSETTO:-0500
TZNAME:CDT
DTSTART:20240310T080000
END:DAYLIGHT
BEGIN:STANDARD
TZOFFSETFROM:-0500
TZOFFSETTO:-0600
TZNAME:CST
DTSTART:20241103T070000
END:STANDARD
BEGIN:DAYLIGHT
TZOFFSETFROM:-0600
TZOFFSETTO:-0500
TZNAME:CDT
DTSTART:20250309T080000
END:DAYLIGHT
BEGIN:STANDARD
TZOFFSETFROM:-0500
TZOFFSETTO:-0600
TZNAME:CST
DTSTART:20251102T070000
END:STANDARD
BEGIN:DAYLIGHT
TZOFFSETFROM:-0600
TZOFFSETTO:-0500
TZNAME:CDT
DTSTART:20260308T080000
END:DAYLIGHT
BEGIN:STANDARD
TZOFFSETFROM:-0500
TZOFFSETTO:-0600
TZNAME:CST
DTSTART:20261101T070000
END:STANDARD
END:VTIMEZONE
BEGIN:VEVENT
DTSTART;VALUE=DATE:20251224
DTEND;VALUE=DATE:20251225
DTSTAMP:20260419T130956
CREATED:20251124T205953Z
LAST-MODIFIED:20251128T180257Z
UID:10003247-1766534400-1766620799@holycrossbcs.org
SUMMARY:Week 5: When God Breaks In
DESCRIPTION:Week 5 — Wednesday\, December 24 at 5:00pm & 7:00pm \nWhen God Breaks the Darkness \nLuke 2:1-20 \n  \nPastor Mike Hafer delivers a Sunday Advent Series beginning Sunday\, November 30. Join us each week in Advent for When God Breaks In\, ending with a special celebration on Christmas Eve. Praise Jesus for coming to earth as a human to break the barrier of sin between God and His people! \n  \nRecordings of each week’s message can be found online after they are posted: https://holycrossbcs.org/media/.
URL:https://holycrossbcs.org/event/week-5-when-god-breaks-in/
CATEGORIES:Christmas 2025,Sermon Series
ATTACH;FMTTYPE=image/webp:https://holycrossbcs.org/wp-content/uploads/2025/11/12.24.25-WEB-TITLE.webp
END:VEVENT
END:VCALENDAR