BEGIN:VCALENDAR
VERSION:2.0
PRODID:-//Holy Cross - ECPv6.15.20//NONSGML v1.0//EN
CALSCALE:GREGORIAN
METHOD:PUBLISH
X-ORIGINAL-URL:https://holycrossbcs.org
X-WR-CALDESC:Events for Holy Cross
REFRESH-INTERVAL;VALUE=DURATION:PT1H
X-Robots-Tag:noindex
X-PUBLISHED-TTL:PT1H
BEGIN:VTIMEZONE
TZID:America/Chicago
BEGIN:DAYLIGHT
TZOFFSETFROM:-0600
TZOFFSETTO:-0500
TZNAME:CDT
DTSTART:20250309T080000
END:DAYLIGHT
BEGIN:STANDARD
TZOFFSETFROM:-0500
TZOFFSETTO:-0600
TZNAME:CST
DTSTART:20251102T070000
END:STANDARD
BEGIN:DAYLIGHT
TZOFFSETFROM:-0600
TZOFFSETTO:-0500
TZNAME:CDT
DTSTART:20260308T080000
END:DAYLIGHT
BEGIN:STANDARD
TZOFFSETFROM:-0500
TZOFFSETTO:-0600
TZNAME:CST
DTSTART:20261101T070000
END:STANDARD
BEGIN:DAYLIGHT
TZOFFSETFROM:-0600
TZOFFSETTO:-0500
TZNAME:CDT
DTSTART:20270314T080000
END:DAYLIGHT
BEGIN:STANDARD
TZOFFSETFROM:-0500
TZOFFSETTO:-0600
TZNAME:CST
DTSTART:20271107T070000
END:STANDARD
END:VTIMEZONE
BEGIN:VEVENT
DTSTART;TZID=America/Chicago:20260419T094500
DTEND;TZID=America/Chicago:20260419T103000
DTSTAMP:20260419T071635
CREATED:20251228T203538Z
LAST-MODIFIED:20260313T122535Z
UID:10003349-1776591900-1776594600@holycrossbcs.org
SUMMARY:College Bible Class
DESCRIPTION:College life comes with big questions\, new challenges\, and opportunities to grow in faith. During the spring semester\, join us on Sundays at 9:45 AM for a class for college students led by college students. We’ll dig into Scripture\, talk about real-life issues\, and encourage each other in our walk with Christ. \n\nCollege Bible Class is located in Worship Building Classroom 202. Questions? Contact the Church Office at 979-764-3992 or office@holycrossbcs.org.
URL:https://holycrossbcs.org/event/college-bible-class/2026-04-19/
LOCATION:Holy Cross Lutheran Church (Education Building)\, 1200 Foxfire Dr.\, College Station\, TX\, 77845\, United States
CATEGORIES:Bible Studies,HC Adults,Sunday School
ATTACH;FMTTYPE=image/webp:https://holycrossbcs.org/wp-content/uploads/2025/04/College-Bible-Class-1.webp
END:VEVENT
BEGIN:VEVENT
DTSTART;TZID=America/Chicago:20260426T094500
DTEND;TZID=America/Chicago:20260426T103000
DTSTAMP:20260419T071635
CREATED:20251228T203538Z
LAST-MODIFIED:20260313T122535Z
UID:10003350-1777196700-1777199400@holycrossbcs.org
SUMMARY:College Bible Class
DESCRIPTION:College life comes with big questions\, new challenges\, and opportunities to grow in faith. During the spring semester\, join us on Sundays at 9:45 AM for a class for college students led by college students. We’ll dig into Scripture\, talk about real-life issues\, and encourage each other in our walk with Christ. \n\nCollege Bible Class is located in Worship Building Classroom 202. Questions? Contact the Church Office at 979-764-3992 or office@holycrossbcs.org.
URL:https://holycrossbcs.org/event/college-bible-class/2026-04-26/
LOCATION:Holy Cross Lutheran Church (Education Building)\, 1200 Foxfire Dr.\, College Station\, TX\, 77845\, United States
CATEGORIES:Bible Studies,HC Adults,Sunday School
ATTACH;FMTTYPE=image/webp:https://holycrossbcs.org/wp-content/uploads/2025/04/College-Bible-Class-1.webp
END:VEVENT
BEGIN:VEVENT
DTSTART;TZID=America/Chicago:20260503T094500
DTEND;TZID=America/Chicago:20260503T103000
DTSTAMP:20260419T071635
CREATED:20251228T203538Z
LAST-MODIFIED:20260313T122535Z
UID:10003351-1777801500-1777804200@holycrossbcs.org
SUMMARY:College Bible Class
DESCRIPTION:College life comes with big questions\, new challenges\, and opportunities to grow in faith. During the spring semester\, join us on Sundays at 9:45 AM for a class for college students led by college students. We’ll dig into Scripture\, talk about real-life issues\, and encourage each other in our walk with Christ. \n\nCollege Bible Class is located in Worship Building Classroom 202. Questions? Contact the Church Office at 979-764-3992 or office@holycrossbcs.org.
URL:https://holycrossbcs.org/event/college-bible-class/2026-05-03/
LOCATION:Holy Cross Lutheran Church (Education Building)\, 1200 Foxfire Dr.\, College Station\, TX\, 77845\, United States
CATEGORIES:Bible Studies,HC Adults,Sunday School
ATTACH;FMTTYPE=image/webp:https://holycrossbcs.org/wp-content/uploads/2025/04/College-Bible-Class-1.webp
END:VEVENT
END:VCALENDAR