BEGIN:VCALENDAR
VERSION:2.0
PRODID:-//Holy Cross - ECPv6.15.20//NONSGML v1.0//EN
CALSCALE:GREGORIAN
METHOD:PUBLISH
X-ORIGINAL-URL:https://holycrossbcs.org
X-WR-CALDESC:Events for Holy Cross
REFRESH-INTERVAL;VALUE=DURATION:PT1H
X-Robots-Tag:noindex
X-PUBLISHED-TTL:PT1H
BEGIN:VTIMEZONE
TZID:America/Chicago
BEGIN:DAYLIGHT
TZOFFSETFROM:-0600
TZOFFSETTO:-0500
TZNAME:CDT
DTSTART:20240310T080000
END:DAYLIGHT
BEGIN:STANDARD
TZOFFSETFROM:-0500
TZOFFSETTO:-0600
TZNAME:CST
DTSTART:20241103T070000
END:STANDARD
BEGIN:DAYLIGHT
TZOFFSETFROM:-0600
TZOFFSETTO:-0500
TZNAME:CDT
DTSTART:20250309T080000
END:DAYLIGHT
BEGIN:STANDARD
TZOFFSETFROM:-0500
TZOFFSETTO:-0600
TZNAME:CST
DTSTART:20251102T070000
END:STANDARD
BEGIN:DAYLIGHT
TZOFFSETFROM:-0600
TZOFFSETTO:-0500
TZNAME:CDT
DTSTART:20260308T080000
END:DAYLIGHT
BEGIN:STANDARD
TZOFFSETFROM:-0500
TZOFFSETTO:-0600
TZNAME:CST
DTSTART:20261101T070000
END:STANDARD
END:VTIMEZONE
BEGIN:VEVENT
DTSTART;VALUE=DATE:20250511
DTEND;VALUE=DATE:20250613
DTSTAMP:20260419T071503
CREATED:20250520T214221Z
LAST-MODIFIED:20250520T214221Z
UID:10002133-1746990000-1749754799@holycrossbcs.org
SUMMARY:Support the Food Bank
DESCRIPTION:Join us in nourishing our neighbors by donating food or giving financially for our food drive supporting the Brazos Valley Food Bank.  The Preschool and Outreach Boards have teamed together to collect items in each Gathering Area now through VBS. Even HC Kids are getting into the action! Brazos Valley Food Bank is the recipient of our HC Kids Helping Kids VBS service project. What can you bring? Items that are high in protein\, such as canned meats\, peanut butter and tuna. Other items include canned vegetables\, canned fruit\, personal hygiene products\, adult and baby diapers\, and rice. \nGive online at this link with “Food Drive” in the note or by check payable to HCLC with “Food Drive” in memo. \n\nFor questions\, please contact the church office (979 764-3992 -OR- office@holycrossbcs.org).
URL:https://holycrossbcs.org/event/support-the-food-bank/
CATEGORIES:Community,HC Kids
ATTACH;FMTTYPE=image/webp:https://holycrossbcs.org/wp-content/uploads/2025/05/Canned-Food-Drive.webp
END:VEVENT
BEGIN:VEVENT
DTSTART;VALUE=DATE:20250607
DTEND;VALUE=DATE:20250613
DTSTAMP:20260419T071503
CREATED:20250313T222025Z
LAST-MODIFIED:20250606T215615Z
UID:10002524-1749322800-1749754799@holycrossbcs.org
SUMMARY:VBS 2025
DESCRIPTION:HC Kids and Friends are going on the ultimate Alaskan adventure where northern lights glow over majestic mountains\, racing rivers\, and glistening glaciers. True North VBS shows kids that Jesus is a faithful friend we can always trust. He’s our True North! \n  \nImportant Links \n\nRegister Your Child\nVolunteer Registration\n\nT-shirts will be only be guaranteed to those registered by Sunday\, May 11. Volunteers are also needed to help make VBS at Holy Cross a blessing to our church and community. Please consider serving this summer. You can sign up at the link above. \n  \nDaily Event Schedule \n\n5:30pm – Dinner (Education Building)\n6:00-8:10pm – Program (Begins & Ends in Worship Building)\n\nFeel free to park on either side. Registration check in will be in the Worship Building. \n  \nVBS Dinner Menu \n\nSunday: Hamburgers\nMonday: Pancakes\nTuesday: Pepperoni Rolls & Salad\nWednesday: Chicken Tenders\nThursday: Nachos\n\n 
URL:https://holycrossbcs.org/event/vbs-2025/
LOCATION:Holy Cross Lutheran Church (Education Building)\, 1200 Foxfire Dr.\, College Station\, TX\, 77845\, United States
CATEGORIES:Community,HC Kids,HC Youth
ATTACH;FMTTYPE=image/webp:https://holycrossbcs.org/wp-content/uploads/2025/03/VBS-2025.webp
END:VEVENT
BEGIN:VEVENT
DTSTART;TZID=America/Chicago:20250613T060000
DTEND;TZID=America/Chicago:20250613T070000
DTSTAMP:20260419T071503
CREATED:20250529T231556Z
LAST-MODIFIED:20250606T204341Z
UID:10002136-1749794400-1749798000@holycrossbcs.org
SUMMARY:Food Drive Finale
DESCRIPTION:Join HC Kids and Outreach for the conclusion of our food drive benefiting the Brazos Valley Food Bank. Meet us at the food bank to deliver the donations collected over the past month and also take a tour of the food bank to see the great work done by this organization. It’s a food drive finale!
URL:https://holycrossbcs.org/event/food-drive-finale/
LOCATION:Brazos Valley Food Bank\, 1501 Independence Ave\, Bryan\, TX\, 77803
CATEGORIES:Community,HC Kids,HC Youth
ATTACH;FMTTYPE=image/webp:https://holycrossbcs.org/wp-content/uploads/2025/05/BVFB-Tour-Drop-Off.webp
END:VEVENT
BEGIN:VEVENT
DTSTART;TZID=America/Chicago:20250615T040000
DTEND;TZID=America/Chicago:20250615T070000
DTSTAMP:20260419T071503
CREATED:20250522T060204Z
LAST-MODIFIED:20250523T225602Z
UID:10002134-1749960000-1749970800@holycrossbcs.org
SUMMARY:Bethlehem Christian Families
DESCRIPTION:On  Sunday\, June 15\, we will have a special opportunity to view and purchase products and creations in wood created by the hands of Christian artisans in and around the Holy Land region. The Rishmawi Family has been designated as the representative for these wonderful Christian artisans. The tradition of Olive wood carvings in the Holy Land has been handed down from father to son since the 12th century. Due to the difficulties the last few years in the Middle East\, tourism has been dramatically reduced and these folks have suffered greatly.  This is causing the Christian community to immigrate to different countries\, leaving the Christian population at 2% today from 25% fifteen years ago. \nWe invite you to visit their display tables and view some of the finest handcrafts available from the Holy Land. Learn more about this organization at https://www.bcfmission.com/. View these beautiful items online at http://www.bethlehem-art.com/ \n“We call on our churches worldwide to recognize that the very presence of the Christian communities in the Holy Land is threatened by the severity of the present conflict and by the economic devastation the conflict has caused. When the Mother Church is endangered\, the entire Churches must be involved.”  \n – The Christian Bishops of Jerusalem \nTo join this group for a life changing Pilgrimage to the Holy Land visit: www.Goodshepherdtravel.com
URL:https://holycrossbcs.org/event/bethlehem-christian-families/
LOCATION:Holy Cross Lutheran Church (Worship Building)\, 1590 Sebesta Road\, College Station\, TX\, 77845\, United States
CATEGORIES:Community
ATTACH;FMTTYPE=image/webp:https://holycrossbcs.org/wp-content/uploads/2025/05/Bethlehem-Christian-Families.webp
END:VEVENT
BEGIN:VEVENT
DTSTART;TZID=America/Chicago:20250615T054500
DTEND;TZID=America/Chicago:20250615T070000
DTSTAMP:20260419T071503
CREATED:20250612T202251Z
LAST-MODIFIED:20250612T223353Z
UID:10002528-1749966300-1749970800@holycrossbcs.org
SUMMARY:VBS Sunday
DESCRIPTION:HC Kids will share about their awesome experience at VBS this Sunday\, June 15 during our 10:45am service. Join us for a VBS highlight video\, songs performed by HC Kids\, and a special message. HC Kids are encouraged to wear their VBS t-shirts this Sunday. Let’s discover what it looks like to  trust Jesus in this wild world.
URL:https://holycrossbcs.org/event/vbs-sunday/
LOCATION:Holy Cross Lutheran Church (Worship Building)\, 1590 Sebesta Road\, College Station\, TX\, 77845\, United States
CATEGORIES:Community,HC Kids,HC Youth,Special Worship Services
ATTACH;FMTTYPE=image/webp:https://holycrossbcs.org/wp-content/uploads/2025/06/VBS-Sunday-2025.webp
END:VEVENT
BEGIN:VEVENT
DTSTART;VALUE=DATE:20250619
DTEND;VALUE=DATE:20250622
DTSTAMP:20260419T071503
CREATED:20250522T065331Z
LAST-MODIFIED:20250523T192634Z
UID:10002135-1750359600-1750532399@holycrossbcs.org
SUMMARY:Summer Serve
DESCRIPTION:HC Youth is hosting a special service event for middle school youth (7th and 8th grade as of Fall 2025) this summer. We hope you will join us for this awesome opportunity to serve our community and grow in Christ together! Our youth will serve these organizations during the two-day event: \n\nWreaths Across America\nBrazos Valley Food Bank\nSleep in Heavenly Peace\n\nWe can’t wait to serve with you! If you’d like your youth to join\, contact our Youth Director\, Jackie Wolf at youth@holycrossbcs.org.
URL:https://holycrossbcs.org/event/summer-serve/
CATEGORIES:HC Youth
ATTACH;FMTTYPE=image/webp:https://holycrossbcs.org/wp-content/uploads/2025/05/Summer-Serve.webp
END:VEVENT
END:VCALENDAR