BEGIN:VCALENDAR
VERSION:2.0
PRODID:-//Holy Cross - ECPv6.15.20//NONSGML v1.0//EN
CALSCALE:GREGORIAN
METHOD:PUBLISH
X-WR-CALNAME:Holy Cross
X-ORIGINAL-URL:https://holycrossbcs.org
X-WR-CALDESC:Events for Holy Cross
REFRESH-INTERVAL;VALUE=DURATION:PT1H
X-Robots-Tag:noindex
X-PUBLISHED-TTL:PT1H
BEGIN:VTIMEZONE
TZID:America/Chicago
BEGIN:DAYLIGHT
TZOFFSETFROM:-0600
TZOFFSETTO:-0500
TZNAME:CDT
DTSTART:20240310T080000
END:DAYLIGHT
BEGIN:STANDARD
TZOFFSETFROM:-0500
TZOFFSETTO:-0600
TZNAME:CST
DTSTART:20241103T070000
END:STANDARD
BEGIN:DAYLIGHT
TZOFFSETFROM:-0600
TZOFFSETTO:-0500
TZNAME:CDT
DTSTART:20250309T080000
END:DAYLIGHT
BEGIN:STANDARD
TZOFFSETFROM:-0500
TZOFFSETTO:-0600
TZNAME:CST
DTSTART:20251102T070000
END:STANDARD
BEGIN:DAYLIGHT
TZOFFSETFROM:-0600
TZOFFSETTO:-0500
TZNAME:CDT
DTSTART:20260308T080000
END:DAYLIGHT
BEGIN:STANDARD
TZOFFSETFROM:-0500
TZOFFSETTO:-0600
TZNAME:CST
DTSTART:20261101T070000
END:STANDARD
END:VTIMEZONE
BEGIN:VEVENT
DTSTART;VALUE=DATE:20250928
DTEND;VALUE=DATE:20251103
DTSTAMP:20260419T114344
CREATED:20250919T131530Z
LAST-MODIFIED:20250919T131530Z
UID:10003175-1759017600-1762127999@holycrossbcs.org
SUMMARY:Twin City Mission Coat Drive
DESCRIPTION:Clean out your closets! Donate coats\, blankets and cold-weather gear to Twin City Mission to keep people warm this winter. We will accept donations through November 2. Drop off items in the tall box outside the Worship Building restrooms.
URL:https://holycrossbcs.org/event/twin-city-mission-coat-drive/
LOCATION:Holy Cross Lutheran Church (Worship Building)\, 1590 Sebesta Road\, College Station\, TX\, 77845\, United States
CATEGORIES:Community
ATTACH;FMTTYPE=image/webp:https://holycrossbcs.org/wp-content/uploads/2025/09/Coat-Drive.webp
END:VEVENT
BEGIN:VEVENT
DTSTART;VALUE=DATE:20251001
DTEND;VALUE=DATE:20251218
DTSTAMP:20260419T114344
CREATED:20250919T131711Z
LAST-MODIFIED:20251216T173804Z
UID:10003176-1759276800-1766015999@holycrossbcs.org
SUMMARY:Shoe Drive HC Youth Fundraiser
DESCRIPTION:Shoe us the love! Donate gently used or new shoes to help fund HC Youth for the 2028 Youth Gathering and other youth events. HC Youth will receive funds for donated shoes\, which will be shipped to micro-enterprises in developing countries where they help small business owners (many of whom are women) build better lives. The steps we take in collecting shoes have a greater impact by raising funds locally\, keeping shoes out of landfills\, and improving livelihoods in global communities. This fundraiser is made possible by Funds2Orgs — learn more at this link. Drop off your shoes in the boxes outside the restrooms of the Worship Building.
URL:https://holycrossbcs.org/event/shoe-drive-hc-youth-fundraiser/
LOCATION:Holy Cross Lutheran Church (Education Building)\, 1200 Foxfire Dr.\, College Station\, TX\, 77845\, United States
CATEGORIES:Community,HC Youth
ATTACH;FMTTYPE=image/webp:https://holycrossbcs.org/wp-content/uploads/2025/09/Shoe-Drive.webp
END:VEVENT
BEGIN:VEVENT
DTSTART;VALUE=DATE:20251102
DTEND;VALUE=DATE:20251103
DTSTAMP:20260419T114344
CREATED:20251030T213745Z
LAST-MODIFIED:20251030T214010Z
UID:10003186-1762041600-1762127999@holycrossbcs.org
SUMMARY:Stewardship: Week One
DESCRIPTION:A Stewardship Journey for God’s Church \nStewardship isn’t fundraising; it’s faith in action. God calls His people to use their time\, talents\, and treasures for His Kingdom – not out of guilt\, but out of gratitude for the Gospel – so that His Church may thrive\, His Gospel may advance\, and His people may live with open hands and generous hearts. This series explores what happens when God’s grace reshapes how we live\, give\, and serve. Join us at 8:15am or 10:45am this Sunday to hear this message. \n  \nNovember 2: “Don’t Waste Your Life” – Our time and abilities are gifts meant for God’s mission. \n  \nTrue stewardship begins with grace and ends with joy!
URL:https://holycrossbcs.org/event/stewardship-week-one/
LOCATION:Holy Cross Lutheran Church (Worship Building)\, 1590 Sebesta Road\, College Station\, TX\, 77845\, United States
ATTACH;FMTTYPE=image/webp:https://holycrossbcs.org/wp-content/uploads/2025/10/Stewarship-1.webp
END:VEVENT
BEGIN:VEVENT
DTSTART;TZID=America/Chicago:20251102T091500
DTEND;TZID=America/Chicago:20251102T103000
DTSTAMP:20260419T114344
CREATED:20250227T000907Z
LAST-MODIFIED:20260106T215026Z
UID:10002995-1762074900-1762079400@holycrossbcs.org
SUMMARY:HC Youth Breakfast Fundraiser
DESCRIPTION:Make this Sunday a win-win by grabbing breakfast at church while supporting HC Youth. Stop by Holy Grounds or the Kitchen in the Education Building between services for a delicious continental breakfast. Thank you for your free will donation!
URL:https://holycrossbcs.org/event/hc-youth-breakfast-fundraiser/2025-11-02/
LOCATION:Holy Cross Lutheran Church (Education Building)\, 1200 Foxfire Dr.\, College Station\, TX\, 77845\, United States
CATEGORIES:HC Youth
ATTACH;FMTTYPE=image/webp:https://holycrossbcs.org/wp-content/uploads/2025/02/Youth-Breakfast-Fundraiser-1-1.webp
END:VEVENT
BEGIN:VEVENT
DTSTART;TZID=America/Chicago:20251102T093000
DTEND;TZID=America/Chicago:20251102T103000
DTSTAMP:20260419T114344
CREATED:20250814T025620Z
LAST-MODIFIED:20260129T171759Z
UID:10003071-1762075800-1762079400@holycrossbcs.org
SUMMARY:Evangelist Training Sunday School
DESCRIPTION:In a culture that is increasingly skeptical of Christianity\, are you intimidated to share your faith with others? Remember that God is the One who gives faith\, and we simply join Him in this great work by the power of His Spirit. This new Sunday school class is based on the Evangelist Training Series developed by the Texas LCMS District. Rebekah Rodriguez\, Holy Cross staff\, and Christi Everett\, Outreach Board member\, will lead the class. This will be a 4-month commitment with an in-depth exploration of the topic and an opportunity to develop and launch a faith community among peers. \n  \nQuestions? Contact Rebekah Rodriguez at graphics@holycrossbcs.org.
URL:https://holycrossbcs.org/event/evangelist-training-sunday-school/2025-11-02/
CATEGORIES:HC Adults,Sunday School
ATTACH;FMTTYPE=image/webp:https://holycrossbcs.org/wp-content/uploads/2025/08/Evangelist-Training-Series.webp
END:VEVENT
BEGIN:VEVENT
DTSTART;TZID=America/Chicago:20251102T093000
DTEND;TZID=America/Chicago:20251102T103000
DTSTAMP:20260419T114344
CREATED:20250814T030608Z
LAST-MODIFIED:20251010T050104Z
UID:10003166-1762075800-1762079400@holycrossbcs.org
SUMMARY:Adult Instruction
DESCRIPTION:Are you curious about the Lutheran faith and interested in becoming a member of Holy Cross? Pastor Mike will lead the next Adult Instruction class in the Church Office Conference Room on Sundays at 9:30 starting on September 14\, and we would love for you to join us!  \nIf you’d like to join\, contact the Church Office at 979-764-3992 or office@holycrossbcs.org.
URL:https://holycrossbcs.org/event/adult-instruction/2025-11-02/
LOCATION:Holy Cross Lutheran Church (Worship Building)\, 1590 Sebesta Road\, College Station\, TX\, 77845\, United States
CATEGORIES:HC Adults,Sunday School
ATTACH;FMTTYPE=image/webp:https://holycrossbcs.org/wp-content/uploads/2025/08/Adult-Instruction.webp
END:VEVENT
BEGIN:VEVENT
DTSTART;TZID=America/Chicago:20251102T140000
DTEND;TZID=America/Chicago:20251102T170000
DTSTAMP:20260419T114344
CREATED:20250929T135320Z
LAST-MODIFIED:20250929T135320Z
UID:10003178-1762092000-1762102800@holycrossbcs.org
SUMMARY:HC Youth Cross Construction
DESCRIPTION:Youth Families: The Lane Family hosts HC Youth to build crosses that we will sell in the Spring as a fundraiser for the 2028 Youth Gathering. Keep an eye on the weekly youth email for more information as it becomes available. Not getting youth emails? Contact Jackie Wolf (youth@holycrossbcs.org).
URL:https://holycrossbcs.org/event/hc-youth-cross-construction-2/
CATEGORIES:HC Youth
ATTACH;FMTTYPE=image/webp:https://holycrossbcs.org/wp-content/uploads/2025/09/Cross-Construction.webp
END:VEVENT
BEGIN:VEVENT
DTSTART;TZID=America/Chicago:20251106T173000
DTEND;TZID=America/Chicago:20251106T200000
DTSTAMP:20260419T114344
CREATED:20250905T034633Z
LAST-MODIFIED:20250905T034633Z
UID:10003163-1762450200-1762459200@holycrossbcs.org
SUMMARY:Families Count
DESCRIPTION:Holy Cross has an exciting opportunity to partner with BCS Together to host Families Count\, a family restoration and preservation ministry for parents involved in the foster system seeking permanency with their children. It is a court-approved parenting class.\n\nThe program is a 7-week Bible-based parenting class with a time for dinner and mentorship\, starting the first week of October. If you are interested in serving\, contact Trey Steinmann (steinmanntrey@aol.com) or Rebekah Rodriguez (graphics@holycrossbcs.org).
URL:https://holycrossbcs.org/event/families-count/2025-11-06/
LOCATION:Holy Cross Lutheran Church (Education Building)\, 1200 Foxfire Dr.\, College Station\, TX\, 77845\, United States
CATEGORIES:Community
ATTACH;FMTTYPE=image/webp:https://holycrossbcs.org/wp-content/uploads/2025/09/Families-Count.webp
END:VEVENT
BEGIN:VEVENT
DTSTART;VALUE=DATE:20251109
DTEND;VALUE=DATE:20251110
DTSTAMP:20260419T114344
CREATED:20251030T214046Z
LAST-MODIFIED:20251030T214046Z
UID:10003187-1762646400-1762732799@holycrossbcs.org
SUMMARY:Stewardship: Week Two
DESCRIPTION:A Stewardship Journey for God’s Church \nStewardship isn’t fundraising; it’s faith in action. God calls His people to use their time\, talents\, and treasures for His Kingdom – not out of guilt\, but out of gratitude for the Gospel – so that His Church may thrive\, His Gospel may advance\, and His people may live with open hands and generous hearts. This series explores what happens when God’s grace reshapes how we live\, give\, and serve. Join us at 8:15am or 10:45am this Sunday to hear this message. \n  \nNovember 9: “How Grace Sets Your Wallet Free” – Money reveals what we trust most; generosity is freedom in Christ. \n  \nTrue stewardship begins with grace and ends with joy!
URL:https://holycrossbcs.org/event/stewardship-week-two/
LOCATION:Holy Cross Lutheran Church (Worship Building)\, 1590 Sebesta Road\, College Station\, TX\, 77845\, United States
ATTACH;FMTTYPE=image/webp:https://holycrossbcs.org/wp-content/uploads/2025/10/Stewarship-1.webp
END:VEVENT
BEGIN:VEVENT
DTSTART;VALUE=DATE:20251109
DTEND;VALUE=DATE:20251201
DTSTAMP:20260419T114344
CREATED:20251104T190944Z
LAST-MODIFIED:20251104T194047Z
UID:10003191-1762646400-1764547199@holycrossbcs.org
SUMMARY:Food for Families Food Drive
DESCRIPTION:Join Holy Cross in supporting our community this holiday season via KBTX-TV’s Food For Families Food Drive. The goal of this event is to collect shelf stable food and monetary donations to help stock the shelves of the Brazos Valley Food Bank (BVFB) and its Agency Partners. Items will be collected Sunday\, November 9 – Sunday\, November 30 in both buildings and donations will be delivered by Holy Cross members on Wednesday\, December 3 at the big event. \n  \nQuestions? Contact the Church Office at 979-764-3992 or office@holycrossbcs.org.
URL:https://holycrossbcs.org/event/food-for-families-food-drive/
CATEGORIES:Community
ATTACH;FMTTYPE=image/webp:https://holycrossbcs.org/wp-content/uploads/2025/11/Food-for-Families-Food-Drive-1.webp
END:VEVENT
BEGIN:VEVENT
DTSTART;TZID=America/Chicago:20251109T093000
DTEND;TZID=America/Chicago:20251109T103000
DTSTAMP:20260419T114344
CREATED:20250814T025620Z
LAST-MODIFIED:20260129T171759Z
UID:10003072-1762680600-1762684200@holycrossbcs.org
SUMMARY:Evangelist Training Sunday School
DESCRIPTION:In a culture that is increasingly skeptical of Christianity\, are you intimidated to share your faith with others? Remember that God is the One who gives faith\, and we simply join Him in this great work by the power of His Spirit. This new Sunday school class is based on the Evangelist Training Series developed by the Texas LCMS District. Rebekah Rodriguez\, Holy Cross staff\, and Christi Everett\, Outreach Board member\, will lead the class. This will be a 4-month commitment with an in-depth exploration of the topic and an opportunity to develop and launch a faith community among peers. \n  \nQuestions? Contact Rebekah Rodriguez at graphics@holycrossbcs.org.
URL:https://holycrossbcs.org/event/evangelist-training-sunday-school/2025-11-09/
CATEGORIES:HC Adults,Sunday School
ATTACH;FMTTYPE=image/webp:https://holycrossbcs.org/wp-content/uploads/2025/08/Evangelist-Training-Series.webp
END:VEVENT
BEGIN:VEVENT
DTSTART;TZID=America/Chicago:20251109T130000
DTEND;TZID=America/Chicago:20251109T150000
DTSTAMP:20260419T114344
CREATED:20251030T215829Z
LAST-MODIFIED:20251030T215829Z
UID:10003184-1762693200-1762700400@holycrossbcs.org
SUMMARY:HC Youth Bowling
DESCRIPTION:HC Youth will meet at Grand Station Entertainment for an afternoon of bowling. We will provide the bowling lane\, ball and shoes. Bring some spending money for refreshments. Contact Youth Director Jackie Wolf (youth@holycrossbcs.org) if you have any questions. Feel free to invite your friends for our fun outing!
URL:https://holycrossbcs.org/event/hc-youth-bowling/
LOCATION:Grand Station Entertainment\, 2400 Earl Rudder Fwy S
CATEGORIES:HC Youth
ATTACH;FMTTYPE=image/webp:https://holycrossbcs.org/wp-content/uploads/2025/10/HC-Youth-Bowling.webp
END:VEVENT
BEGIN:VEVENT
DTSTART;TZID=America/Chicago:20251113T173000
DTEND;TZID=America/Chicago:20251113T200000
DTSTAMP:20260419T114344
CREATED:20250905T034633Z
LAST-MODIFIED:20250905T034633Z
UID:10003164-1763055000-1763064000@holycrossbcs.org
SUMMARY:Families Count
DESCRIPTION:Holy Cross has an exciting opportunity to partner with BCS Together to host Families Count\, a family restoration and preservation ministry for parents involved in the foster system seeking permanency with their children. It is a court-approved parenting class.\n\nThe program is a 7-week Bible-based parenting class with a time for dinner and mentorship\, starting the first week of October. If you are interested in serving\, contact Trey Steinmann (steinmanntrey@aol.com) or Rebekah Rodriguez (graphics@holycrossbcs.org).
URL:https://holycrossbcs.org/event/families-count/2025-11-13/
LOCATION:Holy Cross Lutheran Church (Education Building)\, 1200 Foxfire Dr.\, College Station\, TX\, 77845\, United States
CATEGORIES:Community
ATTACH;FMTTYPE=image/webp:https://holycrossbcs.org/wp-content/uploads/2025/09/Families-Count.webp
END:VEVENT
BEGIN:VEVENT
DTSTART;VALUE=DATE:20251116
DTEND;VALUE=DATE:20251117
DTSTAMP:20260419T114344
CREATED:20251030T214135Z
LAST-MODIFIED:20251030T214724Z
UID:10003188-1763251200-1763337599@holycrossbcs.org
SUMMARY:Stewardship: Week Three
DESCRIPTION:A Stewardship Journey for God’s Church \nStewardship isn’t fundraising; it’s faith in action. God calls His people to use their time\, talents\, and treasures for His Kingdom – not out of guilt\, but out of gratitude for the Gospel – so that His Church may thrive\, His Gospel may advance\, and His people may live with open hands and generous hearts. This series explores what happens when God’s grace reshapes how we live\, give\, and serve. Join us at 8:15am or 10:45am this Sunday to hear this message. \n  \nNovember 16: “The Church that Commits” – Our commitments rise from grace\, as we dedicate our lives to Him alone. \n  \nTrue stewardship begins with grace and ends with joy!
URL:https://holycrossbcs.org/event/stewardship-week-three/
LOCATION:Holy Cross Lutheran Church (Worship Building)\, 1590 Sebesta Road\, College Station\, TX\, 77845\, United States
ATTACH;FMTTYPE=image/webp:https://holycrossbcs.org/wp-content/uploads/2025/10/Stewarship-1.webp
END:VEVENT
BEGIN:VEVENT
DTSTART;TZID=America/Chicago:20251116T093000
DTEND;TZID=America/Chicago:20251116T103000
DTSTAMP:20260419T114344
CREATED:20250814T025620Z
LAST-MODIFIED:20260129T171759Z
UID:10003073-1763285400-1763289000@holycrossbcs.org
SUMMARY:Evangelist Training Sunday School
DESCRIPTION:In a culture that is increasingly skeptical of Christianity\, are you intimidated to share your faith with others? Remember that God is the One who gives faith\, and we simply join Him in this great work by the power of His Spirit. This new Sunday school class is based on the Evangelist Training Series developed by the Texas LCMS District. Rebekah Rodriguez\, Holy Cross staff\, and Christi Everett\, Outreach Board member\, will lead the class. This will be a 4-month commitment with an in-depth exploration of the topic and an opportunity to develop and launch a faith community among peers. \n  \nQuestions? Contact Rebekah Rodriguez at graphics@holycrossbcs.org.
URL:https://holycrossbcs.org/event/evangelist-training-sunday-school/2025-11-16/
CATEGORIES:HC Adults,Sunday School
ATTACH;FMTTYPE=image/webp:https://holycrossbcs.org/wp-content/uploads/2025/08/Evangelist-Training-Series.webp
END:VEVENT
BEGIN:VEVENT
DTSTART;TZID=America/Chicago:20251119T180000
DTEND;TZID=America/Chicago:20251119T193000
DTSTAMP:20260419T114344
CREATED:20251031T122248Z
LAST-MODIFIED:20251031T122319Z
UID:10002807-1763575200-1763580600@holycrossbcs.org
SUMMARY:HC Youth: Campfire Night
DESCRIPTION:HC Youth (Grades 7-12) meet every Wednesday night from 6:00-7:30pm to grow in their faith and connect with each other. This Wednesday\, gather around the campfire for a devotion and time with other HC Youth at the McFarling-Rudolph Home. This will be in place of our regular Wednesday Night Youth. Kids in confirmation class are welcome to join as able. \n\nFor directions or questions\, contact the church office at 979-764-3992 or office@holycrossbcs.org.
URL:https://holycrossbcs.org/event/hc-youth-campfire/
LOCATION:Holy Cross Lutheran Church (Education Building)\, 1200 Foxfire Dr.\, College Station\, TX\, 77845\, United States
CATEGORIES:HC Youth
ATTACH;FMTTYPE=image/webp:https://holycrossbcs.org/wp-content/uploads/2025/04/HC-Youth-Campfire.webp
END:VEVENT
BEGIN:VEVENT
DTSTART;TZID=America/Chicago:20251120T173000
DTEND;TZID=America/Chicago:20251120T200000
DTSTAMP:20260419T114344
CREATED:20250905T034633Z
LAST-MODIFIED:20250905T034633Z
UID:10003165-1763659800-1763668800@holycrossbcs.org
SUMMARY:Families Count
DESCRIPTION:Holy Cross has an exciting opportunity to partner with BCS Together to host Families Count\, a family restoration and preservation ministry for parents involved in the foster system seeking permanency with their children. It is a court-approved parenting class.\n\nThe program is a 7-week Bible-based parenting class with a time for dinner and mentorship\, starting the first week of October. If you are interested in serving\, contact Trey Steinmann (steinmanntrey@aol.com) or Rebekah Rodriguez (graphics@holycrossbcs.org).
URL:https://holycrossbcs.org/event/families-count/2025-11-20/
LOCATION:Holy Cross Lutheran Church (Education Building)\, 1200 Foxfire Dr.\, College Station\, TX\, 77845\, United States
CATEGORIES:Community
ATTACH;FMTTYPE=image/webp:https://holycrossbcs.org/wp-content/uploads/2025/09/Families-Count.webp
END:VEVENT
BEGIN:VEVENT
DTSTART;TZID=America/Chicago:20251123T093000
DTEND;TZID=America/Chicago:20251123T103000
DTSTAMP:20260419T114344
CREATED:20250814T025620Z
LAST-MODIFIED:20260129T171759Z
UID:10003074-1763890200-1763893800@holycrossbcs.org
SUMMARY:Evangelist Training Sunday School
DESCRIPTION:In a culture that is increasingly skeptical of Christianity\, are you intimidated to share your faith with others? Remember that God is the One who gives faith\, and we simply join Him in this great work by the power of His Spirit. This new Sunday school class is based on the Evangelist Training Series developed by the Texas LCMS District. Rebekah Rodriguez\, Holy Cross staff\, and Christi Everett\, Outreach Board member\, will lead the class. This will be a 4-month commitment with an in-depth exploration of the topic and an opportunity to develop and launch a faith community among peers. \n  \nQuestions? Contact Rebekah Rodriguez at graphics@holycrossbcs.org.
URL:https://holycrossbcs.org/event/evangelist-training-sunday-school/2025-11-23/
CATEGORIES:HC Adults,Sunday School
ATTACH;FMTTYPE=image/webp:https://holycrossbcs.org/wp-content/uploads/2025/08/Evangelist-Training-Series.webp
END:VEVENT
BEGIN:VEVENT
DTSTART;TZID=America/Chicago:20251126T190000
DTEND;TZID=America/Chicago:20251126T200000
DTSTAMP:20260419T114344
CREATED:20241109T001549Z
LAST-MODIFIED:20251113T225619Z
UID:10000007-1764183600-1764187200@holycrossbcs.org
SUMMARY:Thanksgiving Eve Service
DESCRIPTION:Join us for our annual Thanksgiving Eve Service as we celebrate the many blessings we have as the children of God. We look forward to connecting with you in worship and fellowship in celebration of this holiday.
URL:https://holycrossbcs.org/event/thanksgiving-eve-service/
LOCATION:Holy Cross Lutheran Church (Worship Building)\, 1590 Sebesta Road\, College Station\, TX\, 77845\, United States
CATEGORIES:Special Worship Services
ATTACH;FMTTYPE=image/webp:https://holycrossbcs.org/wp-content/uploads/2024/11/Thanksgiving-Eve-Worship-1.webp
END:VEVENT
BEGIN:VEVENT
DTSTART;VALUE=DATE:20251130
DTEND;VALUE=DATE:20251201
DTSTAMP:20260419T114344
CREATED:20251124T204757Z
LAST-MODIFIED:20251128T180440Z
UID:10003243-1764460800-1764547199@holycrossbcs.org
SUMMARY:Week 1: When God Breaks In
DESCRIPTION:Week 1 — Sunday\, November 30 at 10:00am \nWhen God Breaks the Silence \nLuke 1:5-25 \n  \nPastor Mike Hafer delivers a Sunday Advent Series beginning Sunday\, November 30. Join us each week in Advent for When God Breaks In\, ending with a special celebration on Christmas Eve. Praise Jesus for coming to earth as a human to break the barrier of sin between God and His people! \n  \nRecordings of each week’s message can be found online after they are posted: https://holycrossbcs.org/media/. \n 
URL:https://holycrossbcs.org/event/week-1-when-god-breaks-in/
CATEGORIES:Christmas 2025,Sermon Series
ATTACH;FMTTYPE=image/webp:https://holycrossbcs.org/wp-content/uploads/2025/11/11.30.25-TITLE.webp
END:VEVENT
END:VCALENDAR