BEGIN:VCALENDAR
VERSION:2.0
PRODID:-//Holy Cross - ECPv6.15.20//NONSGML v1.0//EN
CALSCALE:GREGORIAN
METHOD:PUBLISH
X-WR-CALNAME:Holy Cross
X-ORIGINAL-URL:https://holycrossbcs.org
X-WR-CALDESC:Events for Holy Cross
REFRESH-INTERVAL;VALUE=DURATION:PT1H
X-Robots-Tag:noindex
X-PUBLISHED-TTL:PT1H
BEGIN:VTIMEZONE
TZID:America/Chicago
BEGIN:DAYLIGHT
TZOFFSETFROM:-0600
TZOFFSETTO:-0500
TZNAME:CDT
DTSTART:20240310T080000
END:DAYLIGHT
BEGIN:STANDARD
TZOFFSETFROM:-0500
TZOFFSETTO:-0600
TZNAME:CST
DTSTART:20241103T070000
END:STANDARD
BEGIN:DAYLIGHT
TZOFFSETFROM:-0600
TZOFFSETTO:-0500
TZNAME:CDT
DTSTART:20250309T080000
END:DAYLIGHT
BEGIN:STANDARD
TZOFFSETFROM:-0500
TZOFFSETTO:-0600
TZNAME:CST
DTSTART:20251102T070000
END:STANDARD
BEGIN:DAYLIGHT
TZOFFSETFROM:-0600
TZOFFSETTO:-0500
TZNAME:CDT
DTSTART:20260308T080000
END:DAYLIGHT
BEGIN:STANDARD
TZOFFSETFROM:-0500
TZOFFSETTO:-0600
TZNAME:CST
DTSTART:20261101T070000
END:STANDARD
END:VTIMEZONE
BEGIN:VEVENT
DTSTART;VALUE=DATE:20250907
DTEND;VALUE=DATE:20250908
DTSTAMP:20260419T081513
CREATED:20250817T135305Z
LAST-MODIFIED:20250819T172420Z
UID:10003093-1757203200-1757289599@holycrossbcs.org
SUMMARY:Week 3: The Word that Forms and Sustains
DESCRIPTION:Join us on Sunday\, September 7 during either worship service for the third week in our current sermon series – A Line of Grace\, preached by Pastor Mike Hafer. \nPulpit: The Word that Forms and Sustains\n“Faith comes from hearing\, and hearing through the word of Christ.” Romans 10:17 \n \nThe voice that cried “It is finished” still speaks today. Through the Word—read\, preached\, and proclaimed—Christ delivers the benefits of His death and resurrection. His Law calls sinners to repentance; His Gospel gives peace\, forgiveness\, and life. Those baptized into Christ continue to be shaped and sustained by His voice. The preached Word is not commentary—it is Christ Himself\, speaking to His people\, creating and strengthening faith.
URL:https://holycrossbcs.org/event/line-of-grace-week-3/
LOCATION:Holy Cross Lutheran Church (Worship Building)\, 1590 Sebesta Road\, College Station\, TX\, 77845\, United States
CATEGORIES:Special Worship Services
ATTACH;FMTTYPE=image/webp:https://holycrossbcs.org/wp-content/uploads/2025/08/8.31.25-SERMON-TITLE.webp
END:VEVENT
BEGIN:VEVENT
DTSTART;TZID=America/Chicago:20250907T091500
DTEND;TZID=America/Chicago:20250907T103000
DTSTAMP:20260419T081513
CREATED:20250227T000907Z
LAST-MODIFIED:20260106T215026Z
UID:10002993-1757236500-1757241000@holycrossbcs.org
SUMMARY:HC Youth Breakfast Fundraiser
DESCRIPTION:Make this Sunday a win-win by grabbing breakfast at church while supporting HC Youth. Stop by Holy Grounds or the Kitchen in the Education Building between services for a delicious continental breakfast. Thank you for your free will donation!
URL:https://holycrossbcs.org/event/hc-youth-breakfast-fundraiser/2025-09-07/
LOCATION:Holy Cross Lutheran Church (Education Building)\, 1200 Foxfire Dr.\, College Station\, TX\, 77845\, United States
CATEGORIES:HC Youth
ATTACH;FMTTYPE=image/webp:https://holycrossbcs.org/wp-content/uploads/2025/02/Youth-Breakfast-Fundraiser-1-1.webp
END:VEVENT
END:VCALENDAR